BEGIN:VCALENDAR
VERSION:2.0
PRODID:-//Holy Family Catholic Church - ECPv6.15.12.2//NONSGML v1.0//EN
CALSCALE:GREGORIAN
METHOD:PUBLISH
X-WR-CALNAME:Holy Family Catholic Church
X-ORIGINAL-URL:https://www.hffdl.org
X-WR-CALDESC:Events for Holy Family Catholic Church
REFRESH-INTERVAL;VALUE=DURATION:PT1H
X-Robots-Tag:noindex
X-PUBLISHED-TTL:PT1H
BEGIN:VTIMEZONE
TZID:America/Chicago
BEGIN:DAYLIGHT
TZOFFSETFROM:-0600
TZOFFSETTO:-0500
TZNAME:CDT
DTSTART:20240310T080000
END:DAYLIGHT
BEGIN:STANDARD
TZOFFSETFROM:-0500
TZOFFSETTO:-0600
TZNAME:CST
DTSTART:20241103T070000
END:STANDARD
BEGIN:DAYLIGHT
TZOFFSETFROM:-0600
TZOFFSETTO:-0500
TZNAME:CDT
DTSTART:20250309T080000
END:DAYLIGHT
BEGIN:STANDARD
TZOFFSETFROM:-0500
TZOFFSETTO:-0600
TZNAME:CST
DTSTART:20251102T070000
END:STANDARD
BEGIN:DAYLIGHT
TZOFFSETFROM:-0600
TZOFFSETTO:-0500
TZNAME:CDT
DTSTART:20260308T080000
END:DAYLIGHT
BEGIN:STANDARD
TZOFFSETFROM:-0500
TZOFFSETTO:-0600
TZNAME:CST
DTSTART:20261101T070000
END:STANDARD
END:VTIMEZONE
BEGIN:VEVENT
DTSTART;TZID=America/Chicago:20251111T080000
DTEND;TZID=America/Chicago:20251111T220000
DTSTAMP:20260423T053434
CREATED:20220125T204435Z
LAST-MODIFIED:20251023T163604Z
UID:11618-1762848000-1762898400@www.hffdl.org
SUMMARY:Holy Family Quilters Group
DESCRIPTION:The Holy Family Quilters meet every Tuesday morning from 8:00 to 10:00 am in the St. Mary’s Church basement. All the quilts that we make go to the less fortunate people in the area. We also make lap quilts for the area nursing homes. We can use small pieces or yardage of new material to make the tops and clean blankets and mattress pads\, also any sewing items.  These items can be dropped off at the church office\, or call Karen at (262) 629-4193 for pickup.
URL:https://www.hffdl.org/event/quilters-group/2025-11-11/
LOCATION:Holy Family St. Mary Church\, 59 E. Merrill Ave\, Fond du Lac\, WI\, 54935\, United States
END:VEVENT
BEGIN:VEVENT
DTSTART;TZID=America/Chicago:20251104T160000
DTEND;TZID=America/Chicago:20251104T170000
DTSTAMP:20260423T053434
CREATED:20210621T195746Z
LAST-MODIFIED:20260119T155555Z
UID:11589-1762272000-1762275600@www.hffdl.org
SUMMARY:Blessed Bites
DESCRIPTION:Every Tuesday at the Holy Family Warming Shelter\, 73 E. First St.\, those in need can get a free to-go meal\, canned goods\, and hygiene/cleaning items through the Blessed Bites program. Items are available from 4:00 to 4:30 pm – or until meals are gone. All who are in need are welcome. \nEn Refugio de la Sagrada Familia\, 73 E. First St.\, artículos que puedes llevar gratuitos son: productos enlatados y los artículos de cuidado personal / limpieza\, están disponibles a través de Blessed Bites los martes de 4:00 a 4:30 pm\, hasta agotar existencia. \n 
URL:https://www.hffdl.org/event/blessed-bites-2025-05-20/2025-11-04/
LOCATION:Holy Family St. Mary Church\, 59 E. Merrill Ave\, Fond du Lac\, WI\, 54935\, United States
ATTACH;FMTTYPE=image/png:https://www.hffdl.org/wp-content/uploads/2021/06/15.png
END:VEVENT
BEGIN:VEVENT
DTSTART;TZID=America/Chicago:20251104T080000
DTEND;TZID=America/Chicago:20251104T220000
DTSTAMP:20260423T053434
CREATED:20220125T204435Z
LAST-MODIFIED:20251023T163602Z
UID:11591-1762243200-1762293600@www.hffdl.org
SUMMARY:Holy Family Quilters Group
DESCRIPTION:The Holy Family Quilters meet every Tuesday morning from 8:00 to 10:00 am in the St. Mary’s Church basement. All the quilts that we make go to the less fortunate people in the area. We also make lap quilts for the area nursing homes. We can use small pieces or yardage of new material to make the tops and clean blankets and mattress pads\, also any sewing items.  These items can be dropped off at the church office\, or call Karen at (262) 629-4193 for pickup.
URL:https://www.hffdl.org/event/quilters-group/2025-11-04/
LOCATION:Holy Family St. Mary Church\, 59 E. Merrill Ave\, Fond du Lac\, WI\, 54935\, United States
END:VEVENT
BEGIN:VEVENT
DTSTART;TZID=America/Chicago:20251028T160000
DTEND;TZID=America/Chicago:20251028T170000
DTSTAMP:20260423T053434
CREATED:20210621T195746Z
LAST-MODIFIED:20260119T155553Z
UID:11554-1761667200-1761670800@www.hffdl.org
SUMMARY:Blessed Bites
DESCRIPTION:Every Tuesday at the Holy Family Warming Shelter\, 73 E. First St.\, those in need can get a free to-go meal\, canned goods\, and hygiene/cleaning items through the Blessed Bites program. Items are available from 4:00 to 4:30 pm – or until meals are gone. All who are in need are welcome. \nEn Refugio de la Sagrada Familia\, 73 E. First St.\, artículos que puedes llevar gratuitos son: productos enlatados y los artículos de cuidado personal / limpieza\, están disponibles a través de Blessed Bites los martes de 4:00 a 4:30 pm\, hasta agotar existencia. \n 
URL:https://www.hffdl.org/event/blessed-bites-2025-05-20/2025-10-28/
LOCATION:Holy Family St. Mary Church\, 59 E. Merrill Ave\, Fond du Lac\, WI\, 54935\, United States
ATTACH;FMTTYPE=image/png:https://www.hffdl.org/wp-content/uploads/2021/06/15.png
END:VEVENT
BEGIN:VEVENT
DTSTART;TZID=America/Chicago:20251028T080000
DTEND;TZID=America/Chicago:20251028T220000
DTSTAMP:20260423T053434
CREATED:20220125T204435Z
LAST-MODIFIED:20251023T163600Z
UID:11556-1761638400-1761688800@www.hffdl.org
SUMMARY:Holy Family Quilters Group
DESCRIPTION:The Holy Family Quilters meet every Tuesday morning from 8:00 to 10:00 am in the St. Mary’s Church basement. All the quilts that we make go to the less fortunate people in the area. We also make lap quilts for the area nursing homes. We can use small pieces or yardage of new material to make the tops and clean blankets and mattress pads\, also any sewing items.  These items can be dropped off at the church office\, or call Karen at (262) 629-4193 for pickup.
URL:https://www.hffdl.org/event/quilters-group/2025-10-28/
LOCATION:Holy Family St. Mary Church\, 59 E. Merrill Ave\, Fond du Lac\, WI\, 54935\, United States
END:VEVENT
BEGIN:VEVENT
DTSTART;TZID=America/Chicago:20251021T160000
DTEND;TZID=America/Chicago:20251021T170000
DTSTAMP:20260423T053434
CREATED:20210621T195746Z
LAST-MODIFIED:20260119T155551Z
UID:11514-1761062400-1761066000@www.hffdl.org
SUMMARY:Blessed Bites
DESCRIPTION:Every Tuesday at the Holy Family Warming Shelter\, 73 E. First St.\, those in need can get a free to-go meal\, canned goods\, and hygiene/cleaning items through the Blessed Bites program. Items are available from 4:00 to 4:30 pm – or until meals are gone. All who are in need are welcome. \nEn Refugio de la Sagrada Familia\, 73 E. First St.\, artículos que puedes llevar gratuitos son: productos enlatados y los artículos de cuidado personal / limpieza\, están disponibles a través de Blessed Bites los martes de 4:00 a 4:30 pm\, hasta agotar existencia. \n 
URL:https://www.hffdl.org/event/blessed-bites-2025-05-20/2025-10-21/
LOCATION:Holy Family St. Mary Church\, 59 E. Merrill Ave\, Fond du Lac\, WI\, 54935\, United States
ATTACH;FMTTYPE=image/png:https://www.hffdl.org/wp-content/uploads/2021/06/15.png
END:VEVENT
BEGIN:VEVENT
DTSTART;TZID=America/Chicago:20251021T080000
DTEND;TZID=America/Chicago:20251021T220000
DTSTAMP:20260423T053434
CREATED:20220125T204435Z
LAST-MODIFIED:20251023T163558Z
UID:11516-1761033600-1761084000@www.hffdl.org
SUMMARY:Holy Family Quilters Group
DESCRIPTION:The Holy Family Quilters meet every Tuesday morning from 8:00 to 10:00 am in the St. Mary’s Church basement. All the quilts that we make go to the less fortunate people in the area. We also make lap quilts for the area nursing homes. We can use small pieces or yardage of new material to make the tops and clean blankets and mattress pads\, also any sewing items.  These items can be dropped off at the church office\, or call Karen at (262) 629-4193 for pickup.
URL:https://www.hffdl.org/event/quilters-group/2025-10-21/
LOCATION:Holy Family St. Mary Church\, 59 E. Merrill Ave\, Fond du Lac\, WI\, 54935\, United States
END:VEVENT
BEGIN:VEVENT
DTSTART;TZID=America/Chicago:20251014T160000
DTEND;TZID=America/Chicago:20251014T170000
DTSTAMP:20260423T053434
CREATED:20210621T195746Z
LAST-MODIFIED:20260119T155548Z
UID:11485-1760457600-1760461200@www.hffdl.org
SUMMARY:Blessed Bites
DESCRIPTION:Every Tuesday at the Holy Family Warming Shelter\, 73 E. First St.\, those in need can get a free to-go meal\, canned goods\, and hygiene/cleaning items through the Blessed Bites program. Items are available from 4:00 to 4:30 pm – or until meals are gone. All who are in need are welcome. \nEn Refugio de la Sagrada Familia\, 73 E. First St.\, artículos que puedes llevar gratuitos son: productos enlatados y los artículos de cuidado personal / limpieza\, están disponibles a través de Blessed Bites los martes de 4:00 a 4:30 pm\, hasta agotar existencia. \n 
URL:https://www.hffdl.org/event/blessed-bites-2025-05-20/2025-10-14/
LOCATION:Holy Family St. Mary Church\, 59 E. Merrill Ave\, Fond du Lac\, WI\, 54935\, United States
ATTACH;FMTTYPE=image/png:https://www.hffdl.org/wp-content/uploads/2021/06/15.png
END:VEVENT
BEGIN:VEVENT
DTSTART;TZID=America/Chicago:20251014T080000
DTEND;TZID=America/Chicago:20251014T220000
DTSTAMP:20260423T053434
CREATED:20220125T204435Z
LAST-MODIFIED:20251023T163555Z
UID:11487-1760428800-1760479200@www.hffdl.org
SUMMARY:Holy Family Quilters Group
DESCRIPTION:The Holy Family Quilters meet every Tuesday morning from 8:00 to 10:00 am in the St. Mary’s Church basement. All the quilts that we make go to the less fortunate people in the area. We also make lap quilts for the area nursing homes. We can use small pieces or yardage of new material to make the tops and clean blankets and mattress pads\, also any sewing items.  These items can be dropped off at the church office\, or call Karen at (262) 629-4193 for pickup.
URL:https://www.hffdl.org/event/quilters-group/2025-10-14/
LOCATION:Holy Family St. Mary Church\, 59 E. Merrill Ave\, Fond du Lac\, WI\, 54935\, United States
END:VEVENT
BEGIN:VEVENT
DTSTART;TZID=America/Chicago:20251012T160000
DTEND;TZID=America/Chicago:20251012T170000
DTSTAMP:20260423T053434
CREATED:20220125T205828Z
LAST-MODIFIED:20220125T205828Z
UID:16895-1760284800-1760288400@www.hffdl.org
SUMMARY:Rosary
DESCRIPTION:
URL:https://www.hffdl.org/event/rosary/2025-10-12/
LOCATION:Holy Family St. Mary Church\, 59 E. Merrill Ave\, Fond du Lac\, WI\, 54935\, United States
END:VEVENT
BEGIN:VEVENT
DTSTART;TZID=America/Chicago:20251012T140000
DTEND;TZID=America/Chicago:20251012T150000
DTSTAMP:20260423T053434
CREATED:20250923T184351Z
LAST-MODIFIED:20250923T204719Z
UID:16925-1760277600-1760281200@www.hffdl.org
SUMMARY:Marian Procession & Rosary Rally
DESCRIPTION:Join Holy Family Catholic Community at 2:00 pm on Sunday\, October 12 at a Marian Procession & Rosary Rally dedicated to the Mother Mary. The Procession will begin inside St. Mary Church\, 59 E. Merrill Ave.\, and process south on Main Street to Second Street to Macy Street and return to St. Mary’s via Macy. If you are unable to process\, you are welcome to stay at St. Mary’s and pray the rosary. When the procession returns\, we will crown the Mother Mary outdoors\, before going inside to finish with song\, prayers\, and fellowship.
URL:https://www.hffdl.org/event/marian-procession-rosary/
LOCATION:Holy Family St. Mary Church\, 59 E. Merrill Ave\, Fond du Lac\, WI\, 54935\, United States
ATTACH;FMTTYPE=image/png:https://www.hffdl.org/wp-content/uploads/2025/09/2025-Rosary-Rally-11-x-8.5-in-1920-x-1080-px-1.png
END:VEVENT
BEGIN:VEVENT
DTSTART;TZID=America/Chicago:20251011T160000
DTEND;TZID=America/Chicago:20251011T170000
DTSTAMP:20260423T053434
CREATED:20220125T205828Z
LAST-MODIFIED:20220125T205828Z
UID:16894-1760198400-1760202000@www.hffdl.org
SUMMARY:Rosary
DESCRIPTION:
URL:https://www.hffdl.org/event/rosary/2025-10-11/
LOCATION:Holy Family St. Mary Church\, 59 E. Merrill Ave\, Fond du Lac\, WI\, 54935\, United States
END:VEVENT
BEGIN:VEVENT
DTSTART;TZID=America/Chicago:20251010T160000
DTEND;TZID=America/Chicago:20251010T170000
DTSTAMP:20260423T053434
CREATED:20220125T205828Z
LAST-MODIFIED:20220125T205828Z
UID:16893-1760112000-1760115600@www.hffdl.org
SUMMARY:Rosary
DESCRIPTION:
URL:https://www.hffdl.org/event/rosary/2025-10-10/
LOCATION:Holy Family St. Mary Church\, 59 E. Merrill Ave\, Fond du Lac\, WI\, 54935\, United States
END:VEVENT
BEGIN:VEVENT
DTSTART;TZID=America/Chicago:20251009T160000
DTEND;TZID=America/Chicago:20251009T170000
DTSTAMP:20260423T053434
CREATED:20220125T205828Z
LAST-MODIFIED:20220125T205828Z
UID:16892-1760025600-1760029200@www.hffdl.org
SUMMARY:Rosary
DESCRIPTION:
URL:https://www.hffdl.org/event/rosary/2025-10-09/
LOCATION:Holy Family St. Mary Church\, 59 E. Merrill Ave\, Fond du Lac\, WI\, 54935\, United States
END:VEVENT
BEGIN:VEVENT
DTSTART;TZID=America/Chicago:20251008T160000
DTEND;TZID=America/Chicago:20251008T170000
DTSTAMP:20260423T053434
CREATED:20220125T205828Z
LAST-MODIFIED:20220125T205828Z
UID:16891-1759939200-1759942800@www.hffdl.org
SUMMARY:Rosary
DESCRIPTION:
URL:https://www.hffdl.org/event/rosary/2025-10-08/
LOCATION:Holy Family St. Mary Church\, 59 E. Merrill Ave\, Fond du Lac\, WI\, 54935\, United States
END:VEVENT
BEGIN:VEVENT
DTSTART;TZID=America/Chicago:20251007T160000
DTEND;TZID=America/Chicago:20251007T170000
DTSTAMP:20260423T053434
CREATED:20220125T205828Z
LAST-MODIFIED:20220125T205828Z
UID:16890-1759852800-1759856400@www.hffdl.org
SUMMARY:Rosary
DESCRIPTION:
URL:https://www.hffdl.org/event/rosary/2025-10-07/
LOCATION:Holy Family St. Mary Church\, 59 E. Merrill Ave\, Fond du Lac\, WI\, 54935\, United States
END:VEVENT
BEGIN:VEVENT
DTSTART;TZID=America/Chicago:20251007T160000
DTEND;TZID=America/Chicago:20251007T170000
DTSTAMP:20260423T053434
CREATED:20210621T195746Z
LAST-MODIFIED:20260119T155545Z
UID:11457-1759852800-1759856400@www.hffdl.org
SUMMARY:Blessed Bites
DESCRIPTION:Every Tuesday at the Holy Family Warming Shelter\, 73 E. First St.\, those in need can get a free to-go meal\, canned goods\, and hygiene/cleaning items through the Blessed Bites program. Items are available from 4:00 to 4:30 pm – or until meals are gone. All who are in need are welcome. \nEn Refugio de la Sagrada Familia\, 73 E. First St.\, artículos que puedes llevar gratuitos son: productos enlatados y los artículos de cuidado personal / limpieza\, están disponibles a través de Blessed Bites los martes de 4:00 a 4:30 pm\, hasta agotar existencia. \n 
URL:https://www.hffdl.org/event/blessed-bites-2025-05-20/2025-10-07/
LOCATION:Holy Family St. Mary Church\, 59 E. Merrill Ave\, Fond du Lac\, WI\, 54935\, United States
ATTACH;FMTTYPE=image/png:https://www.hffdl.org/wp-content/uploads/2021/06/15.png
END:VEVENT
BEGIN:VEVENT
DTSTART;TZID=America/Chicago:20251007T080000
DTEND;TZID=America/Chicago:20251007T220000
DTSTAMP:20260423T053434
CREATED:20220125T204435Z
LAST-MODIFIED:20251023T163553Z
UID:11459-1759824000-1759874400@www.hffdl.org
SUMMARY:Holy Family Quilters Group
DESCRIPTION:The Holy Family Quilters meet every Tuesday morning from 8:00 to 10:00 am in the St. Mary’s Church basement. All the quilts that we make go to the less fortunate people in the area. We also make lap quilts for the area nursing homes. We can use small pieces or yardage of new material to make the tops and clean blankets and mattress pads\, also any sewing items.  These items can be dropped off at the church office\, or call Karen at (262) 629-4193 for pickup.
URL:https://www.hffdl.org/event/quilters-group/2025-10-07/
LOCATION:Holy Family St. Mary Church\, 59 E. Merrill Ave\, Fond du Lac\, WI\, 54935\, United States
END:VEVENT
BEGIN:VEVENT
DTSTART;TZID=America/Chicago:20251006T160000
DTEND;TZID=America/Chicago:20251006T170000
DTSTAMP:20260423T053434
CREATED:20220125T205828Z
LAST-MODIFIED:20220125T205828Z
UID:16889-1759766400-1759770000@www.hffdl.org
SUMMARY:Rosary
DESCRIPTION:
URL:https://www.hffdl.org/event/rosary/2025-10-06/
LOCATION:Holy Family St. Mary Church\, 59 E. Merrill Ave\, Fond du Lac\, WI\, 54935\, United States
END:VEVENT
BEGIN:VEVENT
DTSTART;TZID=America/Chicago:20251005T160000
DTEND;TZID=America/Chicago:20251005T170000
DTSTAMP:20260423T053434
CREATED:20220125T205828Z
LAST-MODIFIED:20220125T205828Z
UID:16888-1759680000-1759683600@www.hffdl.org
SUMMARY:Rosary
DESCRIPTION:
URL:https://www.hffdl.org/event/rosary/2025-10-05/
LOCATION:Holy Family St. Mary Church\, 59 E. Merrill Ave\, Fond du Lac\, WI\, 54935\, United States
END:VEVENT
BEGIN:VEVENT
DTSTART;TZID=America/Chicago:20251005T130000
DTEND;TZID=America/Chicago:20251005T140000
DTSTAMP:20260423T053434
CREATED:20250919T140448Z
LAST-MODIFIED:20250919T140456Z
UID:16057-1759669200-1759672800@www.hffdl.org
SUMMARY:Rachel Rosary
DESCRIPTION:In observance of Respect Life Month\, Holy Family invites everyone to join in praying the Rachel Rosary at 1:00 pm on Sunday\, October 5 at St. Mary Church\, 59 E. Merrill Ave. The Rachel Rosary is a six-decade Rosary specially modified to emphasize prayer for victims of abortion and post-abortion syndrome. 
URL:https://www.hffdl.org/event/rachel-rosary-4/
LOCATION:Holy Family St. Mary Church\, 59 E. Merrill Ave\, Fond du Lac\, WI\, 54935\, United States
ATTACH;FMTTYPE=image/png:https://www.hffdl.org/wp-content/uploads/2025/09/Rachel-Rosary-Poster-Facebook-Cover.png
END:VEVENT
BEGIN:VEVENT
DTSTART;TZID=America/Chicago:20251004T160000
DTEND;TZID=America/Chicago:20251004T170000
DTSTAMP:20260423T053434
CREATED:20220125T205828Z
LAST-MODIFIED:20220125T205828Z
UID:16887-1759593600-1759597200@www.hffdl.org
SUMMARY:Rosary
DESCRIPTION:
URL:https://www.hffdl.org/event/rosary/2025-10-04/
LOCATION:Holy Family St. Mary Church\, 59 E. Merrill Ave\, Fond du Lac\, WI\, 54935\, United States
END:VEVENT
BEGIN:VEVENT
DTSTART;TZID=America/Chicago:20251003T160000
DTEND;TZID=America/Chicago:20251003T170000
DTSTAMP:20260423T053434
CREATED:20220125T205828Z
LAST-MODIFIED:20220125T205828Z
UID:16886-1759507200-1759510800@www.hffdl.org
SUMMARY:Rosary
DESCRIPTION:
URL:https://www.hffdl.org/event/rosary/2025-10-03/
LOCATION:Holy Family St. Mary Church\, 59 E. Merrill Ave\, Fond du Lac\, WI\, 54935\, United States
END:VEVENT
BEGIN:VEVENT
DTSTART;TZID=America/Chicago:20251002T160000
DTEND;TZID=America/Chicago:20251002T170000
DTSTAMP:20260423T053434
CREATED:20220125T205828Z
LAST-MODIFIED:20220125T205828Z
UID:16885-1759420800-1759424400@www.hffdl.org
SUMMARY:Rosary
DESCRIPTION:
URL:https://www.hffdl.org/event/rosary/2025-10-02/
LOCATION:Holy Family St. Mary Church\, 59 E. Merrill Ave\, Fond du Lac\, WI\, 54935\, United States
END:VEVENT
BEGIN:VEVENT
DTSTART;TZID=America/Chicago:20251001T160000
DTEND;TZID=America/Chicago:20251001T170000
DTSTAMP:20260423T053434
CREATED:20220125T205828Z
LAST-MODIFIED:20220125T205828Z
UID:16884-1759334400-1759338000@www.hffdl.org
SUMMARY:Rosary
DESCRIPTION:
URL:https://www.hffdl.org/event/rosary/2025-10-01/
LOCATION:Holy Family St. Mary Church\, 59 E. Merrill Ave\, Fond du Lac\, WI\, 54935\, United States
END:VEVENT
BEGIN:VEVENT
DTSTART;TZID=America/Chicago:20250930T160000
DTEND;TZID=America/Chicago:20250930T170000
DTSTAMP:20260423T053434
CREATED:20220125T205828Z
LAST-MODIFIED:20220125T205828Z
UID:16883-1759248000-1759251600@www.hffdl.org
SUMMARY:Rosary
DESCRIPTION:
URL:https://www.hffdl.org/event/rosary/2025-09-30/
LOCATION:Holy Family St. Mary Church\, 59 E. Merrill Ave\, Fond du Lac\, WI\, 54935\, United States
END:VEVENT
BEGIN:VEVENT
DTSTART;TZID=America/Chicago:20250930T160000
DTEND;TZID=America/Chicago:20250930T170000
DTSTAMP:20260423T053434
CREATED:20210621T195746Z
LAST-MODIFIED:20260119T155540Z
UID:11417-1759248000-1759251600@www.hffdl.org
SUMMARY:Blessed Bites
DESCRIPTION:Every Tuesday at the Holy Family Warming Shelter\, 73 E. First St.\, those in need can get a free to-go meal\, canned goods\, and hygiene/cleaning items through the Blessed Bites program. Items are available from 4:00 to 4:30 pm – or until meals are gone. All who are in need are welcome. \nEn Refugio de la Sagrada Familia\, 73 E. First St.\, artículos que puedes llevar gratuitos son: productos enlatados y los artículos de cuidado personal / limpieza\, están disponibles a través de Blessed Bites los martes de 4:00 a 4:30 pm\, hasta agotar existencia. \n 
URL:https://www.hffdl.org/event/blessed-bites-2025-05-20/2025-09-30/
LOCATION:Holy Family St. Mary Church\, 59 E. Merrill Ave\, Fond du Lac\, WI\, 54935\, United States
ATTACH;FMTTYPE=image/png:https://www.hffdl.org/wp-content/uploads/2021/06/15.png
END:VEVENT
BEGIN:VEVENT
DTSTART;TZID=America/Chicago:20250930T080000
DTEND;TZID=America/Chicago:20250930T220000
DTSTAMP:20260423T053434
CREATED:20220125T204435Z
LAST-MODIFIED:20251023T163551Z
UID:11419-1759219200-1759269600@www.hffdl.org
SUMMARY:Holy Family Quilters Group
DESCRIPTION:The Holy Family Quilters meet every Tuesday morning from 8:00 to 10:00 am in the St. Mary’s Church basement. All the quilts that we make go to the less fortunate people in the area. We also make lap quilts for the area nursing homes. We can use small pieces or yardage of new material to make the tops and clean blankets and mattress pads\, also any sewing items.  These items can be dropped off at the church office\, or call Karen at (262) 629-4193 for pickup.
URL:https://www.hffdl.org/event/quilters-group/2025-09-30/
LOCATION:Holy Family St. Mary Church\, 59 E. Merrill Ave\, Fond du Lac\, WI\, 54935\, United States
END:VEVENT
BEGIN:VEVENT
DTSTART;TZID=America/Chicago:20250929T160000
DTEND;TZID=America/Chicago:20250929T170000
DTSTAMP:20260423T053434
CREATED:20220125T205828Z
LAST-MODIFIED:20220125T205828Z
UID:16882-1759161600-1759165200@www.hffdl.org
SUMMARY:Rosary
DESCRIPTION:
URL:https://www.hffdl.org/event/rosary/2025-09-29/
LOCATION:Holy Family St. Mary Church\, 59 E. Merrill Ave\, Fond du Lac\, WI\, 54935\, United States
END:VEVENT
BEGIN:VEVENT
DTSTART;TZID=America/Chicago:20250928T160000
DTEND;TZID=America/Chicago:20250928T170000
DTSTAMP:20260423T053434
CREATED:20220125T205828Z
LAST-MODIFIED:20220125T205828Z
UID:16881-1759075200-1759078800@www.hffdl.org
SUMMARY:Rosary
DESCRIPTION:
URL:https://www.hffdl.org/event/rosary/2025-09-28/
LOCATION:Holy Family St. Mary Church\, 59 E. Merrill Ave\, Fond du Lac\, WI\, 54935\, United States
END:VEVENT
END:VCALENDAR