BEGIN:VCALENDAR
VERSION:2.0
PRODID:-//Holy Family Catholic Church - ECPv6.15.12.2//NONSGML v1.0//EN
CALSCALE:GREGORIAN
METHOD:PUBLISH
X-ORIGINAL-URL:https://www.hffdl.org
X-WR-CALDESC:Events for Holy Family Catholic Church
REFRESH-INTERVAL;VALUE=DURATION:PT1H
X-Robots-Tag:noindex
X-PUBLISHED-TTL:PT1H
BEGIN:VTIMEZONE
TZID:America/Chicago
BEGIN:DAYLIGHT
TZOFFSETFROM:-0600
TZOFFSETTO:-0500
TZNAME:CDT
DTSTART:20230312T080000
END:DAYLIGHT
BEGIN:STANDARD
TZOFFSETFROM:-0500
TZOFFSETTO:-0600
TZNAME:CST
DTSTART:20231105T070000
END:STANDARD
BEGIN:DAYLIGHT
TZOFFSETFROM:-0600
TZOFFSETTO:-0500
TZNAME:CDT
DTSTART:20240310T080000
END:DAYLIGHT
BEGIN:STANDARD
TZOFFSETFROM:-0500
TZOFFSETTO:-0600
TZNAME:CST
DTSTART:20241103T070000
END:STANDARD
BEGIN:DAYLIGHT
TZOFFSETFROM:-0600
TZOFFSETTO:-0500
TZNAME:CDT
DTSTART:20250309T080000
END:DAYLIGHT
BEGIN:STANDARD
TZOFFSETFROM:-0500
TZOFFSETTO:-0600
TZNAME:CST
DTSTART:20251102T070000
END:STANDARD
END:VTIMEZONE
BEGIN:VEVENT
DTSTART;TZID=America/Chicago:20241109T160000
DTEND;TZID=America/Chicago:20241109T170000
DTSTAMP:20260425T151658
CREATED:20220125T205828Z
LAST-MODIFIED:20220125T205828Z
UID:16558-1731168000-1731171600@www.hffdl.org
SUMMARY:Rosary
DESCRIPTION:
URL:https://www.hffdl.org/event/rosary/2024-11-09/
LOCATION:Holy Family St. Mary Church\, 59 E. Merrill Ave\, Fond du Lac\, WI\, 54935\, United States
END:VEVENT
BEGIN:VEVENT
DTSTART;TZID=America/Chicago:20241108T160000
DTEND;TZID=America/Chicago:20241108T170000
DTSTAMP:20260425T151658
CREATED:20220125T205828Z
LAST-MODIFIED:20220125T205828Z
UID:16557-1731081600-1731085200@www.hffdl.org
SUMMARY:Rosary
DESCRIPTION:
URL:https://www.hffdl.org/event/rosary/2024-11-08/
LOCATION:Holy Family St. Mary Church\, 59 E. Merrill Ave\, Fond du Lac\, WI\, 54935\, United States
END:VEVENT
BEGIN:VEVENT
DTSTART;TZID=America/Chicago:20241107T160000
DTEND;TZID=America/Chicago:20241107T170000
DTSTAMP:20260425T151658
CREATED:20220125T205828Z
LAST-MODIFIED:20220125T205828Z
UID:16556-1730995200-1730998800@www.hffdl.org
SUMMARY:Rosary
DESCRIPTION:
URL:https://www.hffdl.org/event/rosary/2024-11-07/
LOCATION:Holy Family St. Mary Church\, 59 E. Merrill Ave\, Fond du Lac\, WI\, 54935\, United States
END:VEVENT
BEGIN:VEVENT
DTSTART;TZID=America/Chicago:20241106T160000
DTEND;TZID=America/Chicago:20241106T170000
DTSTAMP:20260425T151658
CREATED:20220125T205828Z
LAST-MODIFIED:20220125T205828Z
UID:16555-1730908800-1730912400@www.hffdl.org
SUMMARY:Rosary
DESCRIPTION:
URL:https://www.hffdl.org/event/rosary/2024-11-06/
LOCATION:Holy Family St. Mary Church\, 59 E. Merrill Ave\, Fond du Lac\, WI\, 54935\, United States
END:VEVENT
BEGIN:VEVENT
DTSTART;TZID=America/Chicago:20241105T160000
DTEND;TZID=America/Chicago:20241105T170000
DTSTAMP:20260425T151658
CREATED:20220125T205828Z
LAST-MODIFIED:20220125T205828Z
UID:16554-1730822400-1730826000@www.hffdl.org
SUMMARY:Rosary
DESCRIPTION:
URL:https://www.hffdl.org/event/rosary/2024-11-05/
LOCATION:Holy Family St. Mary Church\, 59 E. Merrill Ave\, Fond du Lac\, WI\, 54935\, United States
END:VEVENT
BEGIN:VEVENT
DTSTART;TZID=America/Chicago:20241105T080000
DTEND;TZID=America/Chicago:20241105T220000
DTSTAMP:20260425T151658
CREATED:20220125T204435Z
LAST-MODIFIED:20251023T163400Z
UID:9666-1730793600-1730844000@www.hffdl.org
SUMMARY:Holy Family Quilters Group
DESCRIPTION:The Holy Family Quilters meet every Tuesday morning from 8:00 to 10:00 am in the St. Mary’s Church basement. All the quilts that we make go to the less fortunate people in the area. We also make lap quilts for the area nursing homes. We can use small pieces or yardage of new material to make the tops and clean blankets and mattress pads\, also any sewing items.  These items can be dropped off at the church office\, or call Karen at (262) 629-4193 for pickup.
URL:https://www.hffdl.org/event/quilters-group/2024-11-05/
LOCATION:Holy Family St. Mary Church\, 59 E. Merrill Ave\, Fond du Lac\, WI\, 54935\, United States
END:VEVENT
BEGIN:VEVENT
DTSTART;TZID=America/Chicago:20241104T160000
DTEND;TZID=America/Chicago:20241104T170000
DTSTAMP:20260425T151658
CREATED:20220125T205828Z
LAST-MODIFIED:20220125T205828Z
UID:16553-1730736000-1730739600@www.hffdl.org
SUMMARY:Rosary
DESCRIPTION:
URL:https://www.hffdl.org/event/rosary/2024-11-04/
LOCATION:Holy Family St. Mary Church\, 59 E. Merrill Ave\, Fond du Lac\, WI\, 54935\, United States
END:VEVENT
BEGIN:VEVENT
DTSTART;TZID=America/Chicago:20241103T160000
DTEND;TZID=America/Chicago:20241103T170000
DTSTAMP:20260425T151658
CREATED:20220125T205828Z
LAST-MODIFIED:20220125T205828Z
UID:16552-1730649600-1730653200@www.hffdl.org
SUMMARY:Rosary
DESCRIPTION:
URL:https://www.hffdl.org/event/rosary/2024-11-03/
LOCATION:Holy Family St. Mary Church\, 59 E. Merrill Ave\, Fond du Lac\, WI\, 54935\, United States
END:VEVENT
BEGIN:VEVENT
DTSTART;TZID=America/Chicago:20241102T160000
DTEND;TZID=America/Chicago:20241102T170000
DTSTAMP:20260425T151658
CREATED:20220125T205828Z
LAST-MODIFIED:20220125T205828Z
UID:16551-1730563200-1730566800@www.hffdl.org
SUMMARY:Rosary
DESCRIPTION:
URL:https://www.hffdl.org/event/rosary/2024-11-02/
LOCATION:Holy Family St. Mary Church\, 59 E. Merrill Ave\, Fond du Lac\, WI\, 54935\, United States
END:VEVENT
BEGIN:VEVENT
DTSTART;TZID=America/Chicago:20241101T160000
DTEND;TZID=America/Chicago:20241101T170000
DTSTAMP:20260425T151658
CREATED:20220125T205828Z
LAST-MODIFIED:20220125T205828Z
UID:16550-1730476800-1730480400@www.hffdl.org
SUMMARY:Rosary
DESCRIPTION:
URL:https://www.hffdl.org/event/rosary/2024-11-01/
LOCATION:Holy Family St. Mary Church\, 59 E. Merrill Ave\, Fond du Lac\, WI\, 54935\, United States
END:VEVENT
BEGIN:VEVENT
DTSTART;TZID=America/Chicago:20241031T160000
DTEND;TZID=America/Chicago:20241031T170000
DTSTAMP:20260425T151658
CREATED:20220125T205828Z
LAST-MODIFIED:20220125T205828Z
UID:16549-1730390400-1730394000@www.hffdl.org
SUMMARY:Rosary
DESCRIPTION:
URL:https://www.hffdl.org/event/rosary/2024-10-31/
LOCATION:Holy Family St. Mary Church\, 59 E. Merrill Ave\, Fond du Lac\, WI\, 54935\, United States
END:VEVENT
BEGIN:VEVENT
DTSTART;TZID=America/Chicago:20241030T160000
DTEND;TZID=America/Chicago:20241030T170000
DTSTAMP:20260425T151658
CREATED:20220125T205828Z
LAST-MODIFIED:20220125T205828Z
UID:16548-1730304000-1730307600@www.hffdl.org
SUMMARY:Rosary
DESCRIPTION:
URL:https://www.hffdl.org/event/rosary/2024-10-30/
LOCATION:Holy Family St. Mary Church\, 59 E. Merrill Ave\, Fond du Lac\, WI\, 54935\, United States
END:VEVENT
BEGIN:VEVENT
DTSTART;TZID=America/Chicago:20241029T160000
DTEND;TZID=America/Chicago:20241029T170000
DTSTAMP:20260425T151658
CREATED:20220125T205828Z
LAST-MODIFIED:20220125T205828Z
UID:16547-1730217600-1730221200@www.hffdl.org
SUMMARY:Rosary
DESCRIPTION:
URL:https://www.hffdl.org/event/rosary/2024-10-29/
LOCATION:Holy Family St. Mary Church\, 59 E. Merrill Ave\, Fond du Lac\, WI\, 54935\, United States
END:VEVENT
BEGIN:VEVENT
DTSTART;TZID=America/Chicago:20241029T080000
DTEND;TZID=America/Chicago:20241029T220000
DTSTAMP:20260425T151658
CREATED:20220125T204435Z
LAST-MODIFIED:20251023T163358Z
UID:9602-1730188800-1730239200@www.hffdl.org
SUMMARY:Holy Family Quilters Group
DESCRIPTION:The Holy Family Quilters meet every Tuesday morning from 8:00 to 10:00 am in the St. Mary’s Church basement. All the quilts that we make go to the less fortunate people in the area. We also make lap quilts for the area nursing homes. We can use small pieces or yardage of new material to make the tops and clean blankets and mattress pads\, also any sewing items.  These items can be dropped off at the church office\, or call Karen at (262) 629-4193 for pickup.
URL:https://www.hffdl.org/event/quilters-group/2024-10-29/
LOCATION:Holy Family St. Mary Church\, 59 E. Merrill Ave\, Fond du Lac\, WI\, 54935\, United States
END:VEVENT
BEGIN:VEVENT
DTSTART;TZID=America/Chicago:20241028T160000
DTEND;TZID=America/Chicago:20241028T170000
DTSTAMP:20260425T151658
CREATED:20220125T205828Z
LAST-MODIFIED:20220125T205828Z
UID:16546-1730131200-1730134800@www.hffdl.org
SUMMARY:Rosary
DESCRIPTION:
URL:https://www.hffdl.org/event/rosary/2024-10-28/
LOCATION:Holy Family St. Mary Church\, 59 E. Merrill Ave\, Fond du Lac\, WI\, 54935\, United States
END:VEVENT
BEGIN:VEVENT
DTSTART;TZID=America/Chicago:20241027T160000
DTEND;TZID=America/Chicago:20241027T170000
DTSTAMP:20260425T151658
CREATED:20220125T205828Z
LAST-MODIFIED:20220125T205828Z
UID:16545-1730044800-1730048400@www.hffdl.org
SUMMARY:Rosary
DESCRIPTION:
URL:https://www.hffdl.org/event/rosary/2024-10-27/
LOCATION:Holy Family St. Mary Church\, 59 E. Merrill Ave\, Fond du Lac\, WI\, 54935\, United States
END:VEVENT
BEGIN:VEVENT
DTSTART;TZID=America/Chicago:20241026T160000
DTEND;TZID=America/Chicago:20241026T170000
DTSTAMP:20260425T151658
CREATED:20220125T205828Z
LAST-MODIFIED:20220125T205828Z
UID:16544-1729958400-1729962000@www.hffdl.org
SUMMARY:Rosary
DESCRIPTION:
URL:https://www.hffdl.org/event/rosary/2024-10-26/
LOCATION:Holy Family St. Mary Church\, 59 E. Merrill Ave\, Fond du Lac\, WI\, 54935\, United States
END:VEVENT
BEGIN:VEVENT
DTSTART;TZID=America/Chicago:20241025T160000
DTEND;TZID=America/Chicago:20241025T170000
DTSTAMP:20260425T151658
CREATED:20220125T205828Z
LAST-MODIFIED:20220125T205828Z
UID:16543-1729872000-1729875600@www.hffdl.org
SUMMARY:Rosary
DESCRIPTION:
URL:https://www.hffdl.org/event/rosary/2024-10-25/
LOCATION:Holy Family St. Mary Church\, 59 E. Merrill Ave\, Fond du Lac\, WI\, 54935\, United States
END:VEVENT
BEGIN:VEVENT
DTSTART;TZID=America/Chicago:20241024T160000
DTEND;TZID=America/Chicago:20241024T170000
DTSTAMP:20260425T151658
CREATED:20220125T205828Z
LAST-MODIFIED:20220125T205828Z
UID:16542-1729785600-1729789200@www.hffdl.org
SUMMARY:Rosary
DESCRIPTION:
URL:https://www.hffdl.org/event/rosary/2024-10-24/
LOCATION:Holy Family St. Mary Church\, 59 E. Merrill Ave\, Fond du Lac\, WI\, 54935\, United States
END:VEVENT
BEGIN:VEVENT
DTSTART;TZID=America/Chicago:20241023T160000
DTEND;TZID=America/Chicago:20241023T170000
DTSTAMP:20260425T151658
CREATED:20220125T205828Z
LAST-MODIFIED:20220125T205828Z
UID:16541-1729699200-1729702800@www.hffdl.org
SUMMARY:Rosary
DESCRIPTION:
URL:https://www.hffdl.org/event/rosary/2024-10-23/
LOCATION:Holy Family St. Mary Church\, 59 E. Merrill Ave\, Fond du Lac\, WI\, 54935\, United States
END:VEVENT
BEGIN:VEVENT
DTSTART;TZID=America/Chicago:20241022T160000
DTEND;TZID=America/Chicago:20241022T170000
DTSTAMP:20260425T151658
CREATED:20220125T205828Z
LAST-MODIFIED:20220125T205828Z
UID:16540-1729612800-1729616400@www.hffdl.org
SUMMARY:Rosary
DESCRIPTION:
URL:https://www.hffdl.org/event/rosary/2024-10-22/
LOCATION:Holy Family St. Mary Church\, 59 E. Merrill Ave\, Fond du Lac\, WI\, 54935\, United States
END:VEVENT
BEGIN:VEVENT
DTSTART;TZID=America/Chicago:20241022T080000
DTEND;TZID=America/Chicago:20241022T220000
DTSTAMP:20260425T151658
CREATED:20220125T204435Z
LAST-MODIFIED:20251023T163356Z
UID:9554-1729584000-1729634400@www.hffdl.org
SUMMARY:Holy Family Quilters Group
DESCRIPTION:The Holy Family Quilters meet every Tuesday morning from 8:00 to 10:00 am in the St. Mary’s Church basement. All the quilts that we make go to the less fortunate people in the area. We also make lap quilts for the area nursing homes. We can use small pieces or yardage of new material to make the tops and clean blankets and mattress pads\, also any sewing items.  These items can be dropped off at the church office\, or call Karen at (262) 629-4193 for pickup.
URL:https://www.hffdl.org/event/quilters-group/2024-10-22/
LOCATION:Holy Family St. Mary Church\, 59 E. Merrill Ave\, Fond du Lac\, WI\, 54935\, United States
END:VEVENT
BEGIN:VEVENT
DTSTART;TZID=America/Chicago:20241021T160000
DTEND;TZID=America/Chicago:20241021T170000
DTSTAMP:20260425T151658
CREATED:20220125T205828Z
LAST-MODIFIED:20220125T205828Z
UID:16539-1729526400-1729530000@www.hffdl.org
SUMMARY:Rosary
DESCRIPTION:
URL:https://www.hffdl.org/event/rosary/2024-10-21/
LOCATION:Holy Family St. Mary Church\, 59 E. Merrill Ave\, Fond du Lac\, WI\, 54935\, United States
END:VEVENT
BEGIN:VEVENT
DTSTART;TZID=America/Chicago:20241020T160000
DTEND;TZID=America/Chicago:20241020T170000
DTSTAMP:20260425T151658
CREATED:20220125T205828Z
LAST-MODIFIED:20220125T205828Z
UID:16538-1729440000-1729443600@www.hffdl.org
SUMMARY:Rosary
DESCRIPTION:
URL:https://www.hffdl.org/event/rosary/2024-10-20/
LOCATION:Holy Family St. Mary Church\, 59 E. Merrill Ave\, Fond du Lac\, WI\, 54935\, United States
END:VEVENT
BEGIN:VEVENT
DTSTART;TZID=America/Chicago:20241019T160000
DTEND;TZID=America/Chicago:20241019T170000
DTSTAMP:20260425T151658
CREATED:20220125T205828Z
LAST-MODIFIED:20220125T205828Z
UID:16537-1729353600-1729357200@www.hffdl.org
SUMMARY:Rosary
DESCRIPTION:
URL:https://www.hffdl.org/event/rosary/2024-10-19/
LOCATION:Holy Family St. Mary Church\, 59 E. Merrill Ave\, Fond du Lac\, WI\, 54935\, United States
END:VEVENT
BEGIN:VEVENT
DTSTART;TZID=America/Chicago:20241018T160000
DTEND;TZID=America/Chicago:20241018T170000
DTSTAMP:20260425T151658
CREATED:20220125T205828Z
LAST-MODIFIED:20220125T205828Z
UID:16536-1729267200-1729270800@www.hffdl.org
SUMMARY:Rosary
DESCRIPTION:
URL:https://www.hffdl.org/event/rosary/2024-10-18/
LOCATION:Holy Family St. Mary Church\, 59 E. Merrill Ave\, Fond du Lac\, WI\, 54935\, United States
END:VEVENT
BEGIN:VEVENT
DTSTART;TZID=America/Chicago:20241017T160000
DTEND;TZID=America/Chicago:20241017T170000
DTSTAMP:20260425T151658
CREATED:20220125T205828Z
LAST-MODIFIED:20220125T205828Z
UID:16535-1729180800-1729184400@www.hffdl.org
SUMMARY:Rosary
DESCRIPTION:
URL:https://www.hffdl.org/event/rosary/2024-10-17/
LOCATION:Holy Family St. Mary Church\, 59 E. Merrill Ave\, Fond du Lac\, WI\, 54935\, United States
END:VEVENT
BEGIN:VEVENT
DTSTART;TZID=America/Chicago:20241016T160000
DTEND;TZID=America/Chicago:20241016T170000
DTSTAMP:20260425T151658
CREATED:20220125T205828Z
LAST-MODIFIED:20220125T205828Z
UID:16534-1729094400-1729098000@www.hffdl.org
SUMMARY:Rosary
DESCRIPTION:
URL:https://www.hffdl.org/event/rosary/2024-10-16/
LOCATION:Holy Family St. Mary Church\, 59 E. Merrill Ave\, Fond du Lac\, WI\, 54935\, United States
END:VEVENT
BEGIN:VEVENT
DTSTART;TZID=America/Chicago:20241015T160000
DTEND;TZID=America/Chicago:20241015T170000
DTSTAMP:20260425T151658
CREATED:20220125T205828Z
LAST-MODIFIED:20220125T205828Z
UID:16533-1729008000-1729011600@www.hffdl.org
SUMMARY:Rosary
DESCRIPTION:
URL:https://www.hffdl.org/event/rosary/2024-10-15/
LOCATION:Holy Family St. Mary Church\, 59 E. Merrill Ave\, Fond du Lac\, WI\, 54935\, United States
END:VEVENT
BEGIN:VEVENT
DTSTART;TZID=America/Chicago:20241015T080000
DTEND;TZID=America/Chicago:20241015T220000
DTSTAMP:20260425T151658
CREATED:20220125T204435Z
LAST-MODIFIED:20251023T163354Z
UID:9431-1728979200-1729029600@www.hffdl.org
SUMMARY:Holy Family Quilters Group
DESCRIPTION:The Holy Family Quilters meet every Tuesday morning from 8:00 to 10:00 am in the St. Mary’s Church basement. All the quilts that we make go to the less fortunate people in the area. We also make lap quilts for the area nursing homes. We can use small pieces or yardage of new material to make the tops and clean blankets and mattress pads\, also any sewing items.  These items can be dropped off at the church office\, or call Karen at (262) 629-4193 for pickup.
URL:https://www.hffdl.org/event/quilters-group/2024-10-15/
LOCATION:Holy Family St. Mary Church\, 59 E. Merrill Ave\, Fond du Lac\, WI\, 54935\, United States
END:VEVENT
END:VCALENDAR