BEGIN:VCALENDAR
VERSION:2.0
PRODID:-//Holy Family Catholic Church - ECPv6.15.12.2//NONSGML v1.0//EN
CALSCALE:GREGORIAN
METHOD:PUBLISH
X-ORIGINAL-URL:https://www.hffdl.org
X-WR-CALDESC:Events for Holy Family Catholic Church
REFRESH-INTERVAL;VALUE=DURATION:PT1H
X-Robots-Tag:noindex
X-PUBLISHED-TTL:PT1H
BEGIN:VTIMEZONE
TZID:America/Chicago
BEGIN:DAYLIGHT
TZOFFSETFROM:-0600
TZOFFSETTO:-0500
TZNAME:CDT
DTSTART:20230312T080000
END:DAYLIGHT
BEGIN:STANDARD
TZOFFSETFROM:-0500
TZOFFSETTO:-0600
TZNAME:CST
DTSTART:20231105T070000
END:STANDARD
BEGIN:DAYLIGHT
TZOFFSETFROM:-0600
TZOFFSETTO:-0500
TZNAME:CDT
DTSTART:20240310T080000
END:DAYLIGHT
BEGIN:STANDARD
TZOFFSETFROM:-0500
TZOFFSETTO:-0600
TZNAME:CST
DTSTART:20241103T070000
END:STANDARD
BEGIN:DAYLIGHT
TZOFFSETFROM:-0600
TZOFFSETTO:-0500
TZNAME:CDT
DTSTART:20250309T080000
END:DAYLIGHT
BEGIN:STANDARD
TZOFFSETFROM:-0500
TZOFFSETTO:-0600
TZNAME:CST
DTSTART:20251102T070000
END:STANDARD
END:VTIMEZONE
BEGIN:VEVENT
DTSTART;TZID=America/Chicago:20241209T160000
DTEND;TZID=America/Chicago:20241209T170000
DTSTAMP:20260425T112152
CREATED:20220125T205828Z
LAST-MODIFIED:20220125T205828Z
UID:16588-1733760000-1733763600@www.hffdl.org
SUMMARY:Rosary
DESCRIPTION:
URL:https://www.hffdl.org/event/rosary/2024-12-09/
LOCATION:Holy Family St. Mary Church\, 59 E. Merrill Ave\, Fond du Lac\, WI\, 54935\, United States
END:VEVENT
BEGIN:VEVENT
DTSTART;TZID=America/Chicago:20241208T160000
DTEND;TZID=America/Chicago:20241208T170000
DTSTAMP:20260425T112152
CREATED:20220125T205828Z
LAST-MODIFIED:20220125T205828Z
UID:16587-1733673600-1733677200@www.hffdl.org
SUMMARY:Rosary
DESCRIPTION:
URL:https://www.hffdl.org/event/rosary/2024-12-08/
LOCATION:Holy Family St. Mary Church\, 59 E. Merrill Ave\, Fond du Lac\, WI\, 54935\, United States
END:VEVENT
BEGIN:VEVENT
DTSTART;TZID=America/Chicago:20241207T160000
DTEND;TZID=America/Chicago:20241207T170000
DTSTAMP:20260425T112152
CREATED:20220125T205828Z
LAST-MODIFIED:20220125T205828Z
UID:16586-1733587200-1733590800@www.hffdl.org
SUMMARY:Rosary
DESCRIPTION:
URL:https://www.hffdl.org/event/rosary/2024-12-07/
LOCATION:Holy Family St. Mary Church\, 59 E. Merrill Ave\, Fond du Lac\, WI\, 54935\, United States
END:VEVENT
BEGIN:VEVENT
DTSTART;TZID=America/Chicago:20241206T160000
DTEND;TZID=America/Chicago:20241206T170000
DTSTAMP:20260425T112152
CREATED:20220125T205828Z
LAST-MODIFIED:20220125T205828Z
UID:16585-1733500800-1733504400@www.hffdl.org
SUMMARY:Rosary
DESCRIPTION:
URL:https://www.hffdl.org/event/rosary/2024-12-06/
LOCATION:Holy Family St. Mary Church\, 59 E. Merrill Ave\, Fond du Lac\, WI\, 54935\, United States
END:VEVENT
BEGIN:VEVENT
DTSTART;TZID=America/Chicago:20241205T160000
DTEND;TZID=America/Chicago:20241205T170000
DTSTAMP:20260425T112152
CREATED:20220125T205828Z
LAST-MODIFIED:20220125T205828Z
UID:16584-1733414400-1733418000@www.hffdl.org
SUMMARY:Rosary
DESCRIPTION:
URL:https://www.hffdl.org/event/rosary/2024-12-05/
LOCATION:Holy Family St. Mary Church\, 59 E. Merrill Ave\, Fond du Lac\, WI\, 54935\, United States
END:VEVENT
BEGIN:VEVENT
DTSTART;TZID=America/Chicago:20241204T160000
DTEND;TZID=America/Chicago:20241204T170000
DTSTAMP:20260425T112152
CREATED:20220125T205828Z
LAST-MODIFIED:20220125T205828Z
UID:16583-1733328000-1733331600@www.hffdl.org
SUMMARY:Rosary
DESCRIPTION:
URL:https://www.hffdl.org/event/rosary/2024-12-04/
LOCATION:Holy Family St. Mary Church\, 59 E. Merrill Ave\, Fond du Lac\, WI\, 54935\, United States
END:VEVENT
BEGIN:VEVENT
DTSTART;TZID=America/Chicago:20241203T160000
DTEND;TZID=America/Chicago:20241203T170000
DTSTAMP:20260425T112152
CREATED:20220125T205828Z
LAST-MODIFIED:20220125T205828Z
UID:16582-1733241600-1733245200@www.hffdl.org
SUMMARY:Rosary
DESCRIPTION:
URL:https://www.hffdl.org/event/rosary/2024-12-03/
LOCATION:Holy Family St. Mary Church\, 59 E. Merrill Ave\, Fond du Lac\, WI\, 54935\, United States
END:VEVENT
BEGIN:VEVENT
DTSTART;TZID=America/Chicago:20241203T160000
DTEND;TZID=America/Chicago:20241203T170000
DTSTAMP:20260425T112152
CREATED:20210621T195746Z
LAST-MODIFIED:20210621T195746Z
UID:9884-1733241600-1733245200@www.hffdl.org
SUMMARY:Blessed Bites
DESCRIPTION:Every Tuesday at St. Mary Church\, those in need can get a free to-go meal\, canned goods\, and hygiene/cleaning items through the Blessed Bites program. Items are available from 4:30 to 5:30 pm – or until meals are gone. All who are in need are welcome.  \nEn St. Mary Church\, artículos que puedes llevar gratuitos son: productos enlatados y los artículos de cuidado personal / limpieza\, están disponibles a través de Blessed Bites los martes de 4:30 a 5:30 pm\, hasta agotar existencia. \n 
URL:https://www.hffdl.org/event/blessed-bites/2024-12-03/
LOCATION:Holy Family St. Mary Church\, 59 E. Merrill Ave\, Fond du Lac\, WI\, 54935\, United States
ATTACH;FMTTYPE=image/png:https://www.hffdl.org/wp-content/uploads/2021/06/Copy-of-Blessed-Bites-Facebook-posts-7.png
END:VEVENT
BEGIN:VEVENT
DTSTART;TZID=America/Chicago:20241203T080000
DTEND;TZID=America/Chicago:20241203T220000
DTSTAMP:20260425T112152
CREATED:20220125T204435Z
LAST-MODIFIED:20251023T163408Z
UID:9886-1733212800-1733263200@www.hffdl.org
SUMMARY:Holy Family Quilters Group
DESCRIPTION:The Holy Family Quilters meet every Tuesday morning from 8:00 to 10:00 am in the St. Mary’s Church basement. All the quilts that we make go to the less fortunate people in the area. We also make lap quilts for the area nursing homes. We can use small pieces or yardage of new material to make the tops and clean blankets and mattress pads\, also any sewing items.  These items can be dropped off at the church office\, or call Karen at (262) 629-4193 for pickup.
URL:https://www.hffdl.org/event/quilters-group/2024-12-03/
LOCATION:Holy Family St. Mary Church\, 59 E. Merrill Ave\, Fond du Lac\, WI\, 54935\, United States
END:VEVENT
BEGIN:VEVENT
DTSTART;TZID=America/Chicago:20241202T160000
DTEND;TZID=America/Chicago:20241202T170000
DTSTAMP:20260425T112152
CREATED:20220125T205828Z
LAST-MODIFIED:20220125T205828Z
UID:16581-1733155200-1733158800@www.hffdl.org
SUMMARY:Rosary
DESCRIPTION:
URL:https://www.hffdl.org/event/rosary/2024-12-02/
LOCATION:Holy Family St. Mary Church\, 59 E. Merrill Ave\, Fond du Lac\, WI\, 54935\, United States
END:VEVENT
BEGIN:VEVENT
DTSTART;TZID=America/Chicago:20241201T160000
DTEND;TZID=America/Chicago:20241201T170000
DTSTAMP:20260425T112152
CREATED:20220125T205828Z
LAST-MODIFIED:20220125T205828Z
UID:16580-1733068800-1733072400@www.hffdl.org
SUMMARY:Rosary
DESCRIPTION:
URL:https://www.hffdl.org/event/rosary/2024-12-01/
LOCATION:Holy Family St. Mary Church\, 59 E. Merrill Ave\, Fond du Lac\, WI\, 54935\, United States
END:VEVENT
BEGIN:VEVENT
DTSTART;TZID=America/Chicago:20241130T160000
DTEND;TZID=America/Chicago:20241130T170000
DTSTAMP:20260425T112152
CREATED:20220125T205828Z
LAST-MODIFIED:20220125T205828Z
UID:16579-1732982400-1732986000@www.hffdl.org
SUMMARY:Rosary
DESCRIPTION:
URL:https://www.hffdl.org/event/rosary/2024-11-30/
LOCATION:Holy Family St. Mary Church\, 59 E. Merrill Ave\, Fond du Lac\, WI\, 54935\, United States
END:VEVENT
BEGIN:VEVENT
DTSTART;TZID=America/Chicago:20241129T160000
DTEND;TZID=America/Chicago:20241129T170000
DTSTAMP:20260425T112152
CREATED:20220125T205828Z
LAST-MODIFIED:20220125T205828Z
UID:16578-1732896000-1732899600@www.hffdl.org
SUMMARY:Rosary
DESCRIPTION:
URL:https://www.hffdl.org/event/rosary/2024-11-29/
LOCATION:Holy Family St. Mary Church\, 59 E. Merrill Ave\, Fond du Lac\, WI\, 54935\, United States
END:VEVENT
BEGIN:VEVENT
DTSTART;TZID=America/Chicago:20241128T160000
DTEND;TZID=America/Chicago:20241128T170000
DTSTAMP:20260425T112152
CREATED:20220125T205828Z
LAST-MODIFIED:20220125T205828Z
UID:16577-1732809600-1732813200@www.hffdl.org
SUMMARY:Rosary
DESCRIPTION:
URL:https://www.hffdl.org/event/rosary/2024-11-28/
LOCATION:Holy Family St. Mary Church\, 59 E. Merrill Ave\, Fond du Lac\, WI\, 54935\, United States
END:VEVENT
BEGIN:VEVENT
DTSTART;TZID=America/Chicago:20241127T160000
DTEND;TZID=America/Chicago:20241127T170000
DTSTAMP:20260425T112152
CREATED:20220125T205828Z
LAST-MODIFIED:20220125T205828Z
UID:16576-1732723200-1732726800@www.hffdl.org
SUMMARY:Rosary
DESCRIPTION:
URL:https://www.hffdl.org/event/rosary/2024-11-27/
LOCATION:Holy Family St. Mary Church\, 59 E. Merrill Ave\, Fond du Lac\, WI\, 54935\, United States
END:VEVENT
BEGIN:VEVENT
DTSTART;TZID=America/Chicago:20241126T160000
DTEND;TZID=America/Chicago:20241126T170000
DTSTAMP:20260425T112152
CREATED:20220125T205828Z
LAST-MODIFIED:20220125T205828Z
UID:16575-1732636800-1732640400@www.hffdl.org
SUMMARY:Rosary
DESCRIPTION:
URL:https://www.hffdl.org/event/rosary/2024-11-26/
LOCATION:Holy Family St. Mary Church\, 59 E. Merrill Ave\, Fond du Lac\, WI\, 54935\, United States
END:VEVENT
BEGIN:VEVENT
DTSTART;TZID=America/Chicago:20241126T160000
DTEND;TZID=America/Chicago:20241126T170000
DTSTAMP:20260425T112152
CREATED:20210621T195746Z
LAST-MODIFIED:20210621T195746Z
UID:9856-1732636800-1732640400@www.hffdl.org
SUMMARY:Blessed Bites
DESCRIPTION:Every Tuesday at St. Mary Church\, those in need can get a free to-go meal\, canned goods\, and hygiene/cleaning items through the Blessed Bites program. Items are available from 4:30 to 5:30 pm – or until meals are gone. All who are in need are welcome.  \nEn St. Mary Church\, artículos que puedes llevar gratuitos son: productos enlatados y los artículos de cuidado personal / limpieza\, están disponibles a través de Blessed Bites los martes de 4:30 a 5:30 pm\, hasta agotar existencia. \n 
URL:https://www.hffdl.org/event/blessed-bites/2024-11-26/
LOCATION:Holy Family St. Mary Church\, 59 E. Merrill Ave\, Fond du Lac\, WI\, 54935\, United States
ATTACH;FMTTYPE=image/png:https://www.hffdl.org/wp-content/uploads/2021/06/Copy-of-Blessed-Bites-Facebook-posts-7.png
END:VEVENT
BEGIN:VEVENT
DTSTART;TZID=America/Chicago:20241126T080000
DTEND;TZID=America/Chicago:20241126T220000
DTSTAMP:20260425T112152
CREATED:20220125T204435Z
LAST-MODIFIED:20251023T163406Z
UID:9858-1732608000-1732658400@www.hffdl.org
SUMMARY:Holy Family Quilters Group
DESCRIPTION:The Holy Family Quilters meet every Tuesday morning from 8:00 to 10:00 am in the St. Mary’s Church basement. All the quilts that we make go to the less fortunate people in the area. We also make lap quilts for the area nursing homes. We can use small pieces or yardage of new material to make the tops and clean blankets and mattress pads\, also any sewing items.  These items can be dropped off at the church office\, or call Karen at (262) 629-4193 for pickup.
URL:https://www.hffdl.org/event/quilters-group/2024-11-26/
LOCATION:Holy Family St. Mary Church\, 59 E. Merrill Ave\, Fond du Lac\, WI\, 54935\, United States
END:VEVENT
BEGIN:VEVENT
DTSTART;TZID=America/Chicago:20241125T160000
DTEND;TZID=America/Chicago:20241125T170000
DTSTAMP:20260425T112152
CREATED:20220125T205828Z
LAST-MODIFIED:20220125T205828Z
UID:16574-1732550400-1732554000@www.hffdl.org
SUMMARY:Rosary
DESCRIPTION:
URL:https://www.hffdl.org/event/rosary/2024-11-25/
LOCATION:Holy Family St. Mary Church\, 59 E. Merrill Ave\, Fond du Lac\, WI\, 54935\, United States
END:VEVENT
BEGIN:VEVENT
DTSTART;TZID=America/Chicago:20241124T160000
DTEND;TZID=America/Chicago:20241124T170000
DTSTAMP:20260425T112152
CREATED:20220125T205828Z
LAST-MODIFIED:20220125T205828Z
UID:16573-1732464000-1732467600@www.hffdl.org
SUMMARY:Rosary
DESCRIPTION:
URL:https://www.hffdl.org/event/rosary/2024-11-24/
LOCATION:Holy Family St. Mary Church\, 59 E. Merrill Ave\, Fond du Lac\, WI\, 54935\, United States
END:VEVENT
BEGIN:VEVENT
DTSTART;TZID=America/Chicago:20241123T160000
DTEND;TZID=America/Chicago:20241123T170000
DTSTAMP:20260425T112152
CREATED:20220125T205828Z
LAST-MODIFIED:20220125T205828Z
UID:16572-1732377600-1732381200@www.hffdl.org
SUMMARY:Rosary
DESCRIPTION:
URL:https://www.hffdl.org/event/rosary/2024-11-23/
LOCATION:Holy Family St. Mary Church\, 59 E. Merrill Ave\, Fond du Lac\, WI\, 54935\, United States
END:VEVENT
BEGIN:VEVENT
DTSTART;TZID=America/Chicago:20241122T160000
DTEND;TZID=America/Chicago:20241122T170000
DTSTAMP:20260425T112152
CREATED:20220125T205828Z
LAST-MODIFIED:20220125T205828Z
UID:16571-1732291200-1732294800@www.hffdl.org
SUMMARY:Rosary
DESCRIPTION:
URL:https://www.hffdl.org/event/rosary/2024-11-22/
LOCATION:Holy Family St. Mary Church\, 59 E. Merrill Ave\, Fond du Lac\, WI\, 54935\, United States
END:VEVENT
BEGIN:VEVENT
DTSTART;TZID=America/Chicago:20241121T160000
DTEND;TZID=America/Chicago:20241121T170000
DTSTAMP:20260425T112152
CREATED:20220125T205828Z
LAST-MODIFIED:20220125T205828Z
UID:16570-1732204800-1732208400@www.hffdl.org
SUMMARY:Rosary
DESCRIPTION:
URL:https://www.hffdl.org/event/rosary/2024-11-21/
LOCATION:Holy Family St. Mary Church\, 59 E. Merrill Ave\, Fond du Lac\, WI\, 54935\, United States
END:VEVENT
BEGIN:VEVENT
DTSTART;TZID=America/Chicago:20241120T160000
DTEND;TZID=America/Chicago:20241120T170000
DTSTAMP:20260425T112152
CREATED:20220125T205828Z
LAST-MODIFIED:20220125T205828Z
UID:16569-1732118400-1732122000@www.hffdl.org
SUMMARY:Rosary
DESCRIPTION:
URL:https://www.hffdl.org/event/rosary/2024-11-20/
LOCATION:Holy Family St. Mary Church\, 59 E. Merrill Ave\, Fond du Lac\, WI\, 54935\, United States
END:VEVENT
BEGIN:VEVENT
DTSTART;TZID=America/Chicago:20241119T160000
DTEND;TZID=America/Chicago:20241119T170000
DTSTAMP:20260425T112152
CREATED:20220125T205828Z
LAST-MODIFIED:20220125T205828Z
UID:16568-1732032000-1732035600@www.hffdl.org
SUMMARY:Rosary
DESCRIPTION:
URL:https://www.hffdl.org/event/rosary/2024-11-19/
LOCATION:Holy Family St. Mary Church\, 59 E. Merrill Ave\, Fond du Lac\, WI\, 54935\, United States
END:VEVENT
BEGIN:VEVENT
DTSTART;TZID=America/Chicago:20241119T080000
DTEND;TZID=America/Chicago:20241119T220000
DTSTAMP:20260425T112152
CREATED:20220125T204435Z
LAST-MODIFIED:20251023T163404Z
UID:9735-1732003200-1732053600@www.hffdl.org
SUMMARY:Holy Family Quilters Group
DESCRIPTION:The Holy Family Quilters meet every Tuesday morning from 8:00 to 10:00 am in the St. Mary’s Church basement. All the quilts that we make go to the less fortunate people in the area. We also make lap quilts for the area nursing homes. We can use small pieces or yardage of new material to make the tops and clean blankets and mattress pads\, also any sewing items.  These items can be dropped off at the church office\, or call Karen at (262) 629-4193 for pickup.
URL:https://www.hffdl.org/event/quilters-group/2024-11-19/
LOCATION:Holy Family St. Mary Church\, 59 E. Merrill Ave\, Fond du Lac\, WI\, 54935\, United States
END:VEVENT
BEGIN:VEVENT
DTSTART;TZID=America/Chicago:20241118T160000
DTEND;TZID=America/Chicago:20241118T170000
DTSTAMP:20260425T112152
CREATED:20220125T205828Z
LAST-MODIFIED:20220125T205828Z
UID:16567-1731945600-1731949200@www.hffdl.org
SUMMARY:Rosary
DESCRIPTION:
URL:https://www.hffdl.org/event/rosary/2024-11-18/
LOCATION:Holy Family St. Mary Church\, 59 E. Merrill Ave\, Fond du Lac\, WI\, 54935\, United States
END:VEVENT
BEGIN:VEVENT
DTSTART;TZID=America/Chicago:20241117T160000
DTEND;TZID=America/Chicago:20241117T170000
DTSTAMP:20260425T112152
CREATED:20220125T205828Z
LAST-MODIFIED:20220125T205828Z
UID:16566-1731859200-1731862800@www.hffdl.org
SUMMARY:Rosary
DESCRIPTION:
URL:https://www.hffdl.org/event/rosary/2024-11-17/
LOCATION:Holy Family St. Mary Church\, 59 E. Merrill Ave\, Fond du Lac\, WI\, 54935\, United States
END:VEVENT
BEGIN:VEVENT
DTSTART;TZID=America/Chicago:20241116T160000
DTEND;TZID=America/Chicago:20241116T170000
DTSTAMP:20260425T112152
CREATED:20220125T205828Z
LAST-MODIFIED:20220125T205828Z
UID:16565-1731772800-1731776400@www.hffdl.org
SUMMARY:Rosary
DESCRIPTION:
URL:https://www.hffdl.org/event/rosary/2024-11-16/
LOCATION:Holy Family St. Mary Church\, 59 E. Merrill Ave\, Fond du Lac\, WI\, 54935\, United States
END:VEVENT
BEGIN:VEVENT
DTSTART;TZID=America/Chicago:20241115T160000
DTEND;TZID=America/Chicago:20241115T170000
DTSTAMP:20260425T112152
CREATED:20220125T205828Z
LAST-MODIFIED:20220125T205828Z
UID:16564-1731686400-1731690000@www.hffdl.org
SUMMARY:Rosary
DESCRIPTION:
URL:https://www.hffdl.org/event/rosary/2024-11-15/
LOCATION:Holy Family St. Mary Church\, 59 E. Merrill Ave\, Fond du Lac\, WI\, 54935\, United States
END:VEVENT
END:VCALENDAR