BEGIN:VCALENDAR
VERSION:2.0
PRODID:-//Holy Family Catholic Church - ECPv6.15.12.2//NONSGML v1.0//EN
CALSCALE:GREGORIAN
METHOD:PUBLISH
X-WR-CALNAME:Holy Family Catholic Church
X-ORIGINAL-URL:https://www.hffdl.org
X-WR-CALDESC:Events for Holy Family Catholic Church
REFRESH-INTERVAL;VALUE=DURATION:PT1H
X-Robots-Tag:noindex
X-PUBLISHED-TTL:PT1H
BEGIN:VTIMEZONE
TZID:America/Chicago
BEGIN:DAYLIGHT
TZOFFSETFROM:-0600
TZOFFSETTO:-0500
TZNAME:CDT
DTSTART:20240310T080000
END:DAYLIGHT
BEGIN:STANDARD
TZOFFSETFROM:-0500
TZOFFSETTO:-0600
TZNAME:CST
DTSTART:20241103T070000
END:STANDARD
BEGIN:DAYLIGHT
TZOFFSETFROM:-0600
TZOFFSETTO:-0500
TZNAME:CDT
DTSTART:20250309T080000
END:DAYLIGHT
BEGIN:STANDARD
TZOFFSETFROM:-0500
TZOFFSETTO:-0600
TZNAME:CST
DTSTART:20251102T070000
END:STANDARD
BEGIN:DAYLIGHT
TZOFFSETFROM:-0600
TZOFFSETTO:-0500
TZNAME:CDT
DTSTART:20260308T080000
END:DAYLIGHT
BEGIN:STANDARD
TZOFFSETFROM:-0500
TZOFFSETTO:-0600
TZNAME:CST
DTSTART:20261101T070000
END:STANDARD
END:VTIMEZONE
BEGIN:VEVENT
DTSTART;TZID=America/Chicago:20250311T160000
DTEND;TZID=America/Chicago:20250311T170000
DTSTAMP:20260424T205541
CREATED:20210621T195746Z
LAST-MODIFIED:20210621T195746Z
UID:10415-1741708800-1741712400@www.hffdl.org
SUMMARY:Blessed Bites
DESCRIPTION:Every Tuesday at St. Mary Church\, those in need can get a free to-go meal\, canned goods\, and hygiene/cleaning items through the Blessed Bites program. Items are available from 4:30 to 5:30 pm – or until meals are gone. All who are in need are welcome.  \nEn St. Mary Church\, artículos que puedes llevar gratuitos son: productos enlatados y los artículos de cuidado personal / limpieza\, están disponibles a través de Blessed Bites los martes de 4:30 a 5:30 pm\, hasta agotar existencia. \n 
URL:https://www.hffdl.org/event/blessed-bites/2025-03-11/
LOCATION:Holy Family St. Mary Church\, 59 E. Merrill Ave\, Fond du Lac\, WI\, 54935\, United States
ATTACH;FMTTYPE=image/png:https://www.hffdl.org/wp-content/uploads/2021/06/Copy-of-Blessed-Bites-Facebook-posts-7.png
END:VEVENT
BEGIN:VEVENT
DTSTART;TZID=America/Chicago:20250311T080000
DTEND;TZID=America/Chicago:20250311T220000
DTSTAMP:20260424T205541
CREATED:20220125T204435Z
LAST-MODIFIED:20251023T163442Z
UID:10417-1741680000-1741730400@www.hffdl.org
SUMMARY:Holy Family Quilters Group
DESCRIPTION:The Holy Family Quilters meet every Tuesday morning from 8:00 to 10:00 am in the St. Mary’s Church basement. All the quilts that we make go to the less fortunate people in the area. We also make lap quilts for the area nursing homes. We can use small pieces or yardage of new material to make the tops and clean blankets and mattress pads\, also any sewing items.  These items can be dropped off at the church office\, or call Karen at (262) 629-4193 for pickup.
URL:https://www.hffdl.org/event/quilters-group/2025-03-11/
LOCATION:Holy Family St. Mary Church\, 59 E. Merrill Ave\, Fond du Lac\, WI\, 54935\, United States
END:VEVENT
BEGIN:VEVENT
DTSTART;TZID=America/Chicago:20250310T160000
DTEND;TZID=America/Chicago:20250310T170000
DTSTAMP:20260424T205541
CREATED:20220125T205828Z
LAST-MODIFIED:20220125T205828Z
UID:16679-1741622400-1741626000@www.hffdl.org
SUMMARY:Rosary
DESCRIPTION:
URL:https://www.hffdl.org/event/rosary/2025-03-10/
LOCATION:Holy Family St. Mary Church\, 59 E. Merrill Ave\, Fond du Lac\, WI\, 54935\, United States
END:VEVENT
BEGIN:VEVENT
DTSTART;TZID=America/Chicago:20250309T160000
DTEND;TZID=America/Chicago:20250309T170000
DTSTAMP:20260424T205541
CREATED:20220125T205828Z
LAST-MODIFIED:20220125T205828Z
UID:16678-1741536000-1741539600@www.hffdl.org
SUMMARY:Rosary
DESCRIPTION:
URL:https://www.hffdl.org/event/rosary/2025-03-09/
LOCATION:Holy Family St. Mary Church\, 59 E. Merrill Ave\, Fond du Lac\, WI\, 54935\, United States
END:VEVENT
BEGIN:VEVENT
DTSTART;TZID=America/Chicago:20250308T160000
DTEND;TZID=America/Chicago:20250308T170000
DTSTAMP:20260424T205541
CREATED:20220125T205828Z
LAST-MODIFIED:20220125T205828Z
UID:16677-1741449600-1741453200@www.hffdl.org
SUMMARY:Rosary
DESCRIPTION:
URL:https://www.hffdl.org/event/rosary/2025-03-08/
LOCATION:Holy Family St. Mary Church\, 59 E. Merrill Ave\, Fond du Lac\, WI\, 54935\, United States
END:VEVENT
BEGIN:VEVENT
DTSTART;TZID=America/Chicago:20250307T160000
DTEND;TZID=America/Chicago:20250307T170000
DTSTAMP:20260424T205541
CREATED:20220125T205828Z
LAST-MODIFIED:20220125T205828Z
UID:16676-1741363200-1741366800@www.hffdl.org
SUMMARY:Rosary
DESCRIPTION:
URL:https://www.hffdl.org/event/rosary/2025-03-07/
LOCATION:Holy Family St. Mary Church\, 59 E. Merrill Ave\, Fond du Lac\, WI\, 54935\, United States
END:VEVENT
BEGIN:VEVENT
DTSTART;TZID=America/Chicago:20250306T160000
DTEND;TZID=America/Chicago:20250306T170000
DTSTAMP:20260424T205541
CREATED:20220125T205828Z
LAST-MODIFIED:20220125T205828Z
UID:16675-1741276800-1741280400@www.hffdl.org
SUMMARY:Rosary
DESCRIPTION:
URL:https://www.hffdl.org/event/rosary/2025-03-06/
LOCATION:Holy Family St. Mary Church\, 59 E. Merrill Ave\, Fond du Lac\, WI\, 54935\, United States
END:VEVENT
BEGIN:VEVENT
DTSTART;TZID=America/Chicago:20250305T160000
DTEND;TZID=America/Chicago:20250305T170000
DTSTAMP:20260424T205541
CREATED:20220125T205828Z
LAST-MODIFIED:20220125T205828Z
UID:16674-1741190400-1741194000@www.hffdl.org
SUMMARY:Rosary
DESCRIPTION:
URL:https://www.hffdl.org/event/rosary/2025-03-05/
LOCATION:Holy Family St. Mary Church\, 59 E. Merrill Ave\, Fond du Lac\, WI\, 54935\, United States
END:VEVENT
BEGIN:VEVENT
DTSTART;TZID=America/Chicago:20250304T160000
DTEND;TZID=America/Chicago:20250304T170000
DTSTAMP:20260424T205541
CREATED:20220125T205828Z
LAST-MODIFIED:20220125T205828Z
UID:16673-1741104000-1741107600@www.hffdl.org
SUMMARY:Rosary
DESCRIPTION:
URL:https://www.hffdl.org/event/rosary/2025-03-04/
LOCATION:Holy Family St. Mary Church\, 59 E. Merrill Ave\, Fond du Lac\, WI\, 54935\, United States
END:VEVENT
BEGIN:VEVENT
DTSTART;TZID=America/Chicago:20250304T160000
DTEND;TZID=America/Chicago:20250304T170000
DTSTAMP:20260424T205541
CREATED:20210621T195746Z
LAST-MODIFIED:20210621T195746Z
UID:10398-1741104000-1741107600@www.hffdl.org
SUMMARY:Blessed Bites
DESCRIPTION:Every Tuesday at St. Mary Church\, those in need can get a free to-go meal\, canned goods\, and hygiene/cleaning items through the Blessed Bites program. Items are available from 4:30 to 5:30 pm – or until meals are gone. All who are in need are welcome.  \nEn St. Mary Church\, artículos que puedes llevar gratuitos son: productos enlatados y los artículos de cuidado personal / limpieza\, están disponibles a través de Blessed Bites los martes de 4:30 a 5:30 pm\, hasta agotar existencia. \n 
URL:https://www.hffdl.org/event/blessed-bites/2025-03-04/
LOCATION:Holy Family St. Mary Church\, 59 E. Merrill Ave\, Fond du Lac\, WI\, 54935\, United States
ATTACH;FMTTYPE=image/png:https://www.hffdl.org/wp-content/uploads/2021/06/Copy-of-Blessed-Bites-Facebook-posts-7.png
END:VEVENT
BEGIN:VEVENT
DTSTART;TZID=America/Chicago:20250304T080000
DTEND;TZID=America/Chicago:20250304T220000
DTSTAMP:20260424T205541
CREATED:20220125T204435Z
LAST-MODIFIED:20251023T163440Z
UID:10400-1741075200-1741125600@www.hffdl.org
SUMMARY:Holy Family Quilters Group
DESCRIPTION:The Holy Family Quilters meet every Tuesday morning from 8:00 to 10:00 am in the St. Mary’s Church basement. All the quilts that we make go to the less fortunate people in the area. We also make lap quilts for the area nursing homes. We can use small pieces or yardage of new material to make the tops and clean blankets and mattress pads\, also any sewing items.  These items can be dropped off at the church office\, or call Karen at (262) 629-4193 for pickup.
URL:https://www.hffdl.org/event/quilters-group/2025-03-04/
LOCATION:Holy Family St. Mary Church\, 59 E. Merrill Ave\, Fond du Lac\, WI\, 54935\, United States
END:VEVENT
BEGIN:VEVENT
DTSTART;TZID=America/Chicago:20250303T160000
DTEND;TZID=America/Chicago:20250303T170000
DTSTAMP:20260424T205541
CREATED:20220125T205828Z
LAST-MODIFIED:20220125T205828Z
UID:16672-1741017600-1741021200@www.hffdl.org
SUMMARY:Rosary
DESCRIPTION:
URL:https://www.hffdl.org/event/rosary/2025-03-03/
LOCATION:Holy Family St. Mary Church\, 59 E. Merrill Ave\, Fond du Lac\, WI\, 54935\, United States
END:VEVENT
BEGIN:VEVENT
DTSTART;TZID=America/Chicago:20250302T160000
DTEND;TZID=America/Chicago:20250302T170000
DTSTAMP:20260424T205541
CREATED:20220125T205828Z
LAST-MODIFIED:20220125T205828Z
UID:16671-1740931200-1740934800@www.hffdl.org
SUMMARY:Rosary
DESCRIPTION:
URL:https://www.hffdl.org/event/rosary/2025-03-02/
LOCATION:Holy Family St. Mary Church\, 59 E. Merrill Ave\, Fond du Lac\, WI\, 54935\, United States
END:VEVENT
BEGIN:VEVENT
DTSTART;TZID=America/Chicago:20250301T160000
DTEND;TZID=America/Chicago:20250301T170000
DTSTAMP:20260424T205541
CREATED:20220125T205828Z
LAST-MODIFIED:20220125T205828Z
UID:16670-1740844800-1740848400@www.hffdl.org
SUMMARY:Rosary
DESCRIPTION:
URL:https://www.hffdl.org/event/rosary/2025-03-01/
LOCATION:Holy Family St. Mary Church\, 59 E. Merrill Ave\, Fond du Lac\, WI\, 54935\, United States
END:VEVENT
BEGIN:VEVENT
DTSTART;TZID=America/Chicago:20250228T160000
DTEND;TZID=America/Chicago:20250228T170000
DTSTAMP:20260424T205541
CREATED:20220125T205828Z
LAST-MODIFIED:20220125T205828Z
UID:16669-1740758400-1740762000@www.hffdl.org
SUMMARY:Rosary
DESCRIPTION:
URL:https://www.hffdl.org/event/rosary/2025-02-28/
LOCATION:Holy Family St. Mary Church\, 59 E. Merrill Ave\, Fond du Lac\, WI\, 54935\, United States
END:VEVENT
BEGIN:VEVENT
DTSTART;TZID=America/Chicago:20250227T160000
DTEND;TZID=America/Chicago:20250227T170000
DTSTAMP:20260424T205541
CREATED:20220125T205828Z
LAST-MODIFIED:20220125T205828Z
UID:16668-1740672000-1740675600@www.hffdl.org
SUMMARY:Rosary
DESCRIPTION:
URL:https://www.hffdl.org/event/rosary/2025-02-27/
LOCATION:Holy Family St. Mary Church\, 59 E. Merrill Ave\, Fond du Lac\, WI\, 54935\, United States
END:VEVENT
BEGIN:VEVENT
DTSTART;TZID=America/Chicago:20250226T160000
DTEND;TZID=America/Chicago:20250226T170000
DTSTAMP:20260424T205541
CREATED:20220125T205828Z
LAST-MODIFIED:20220125T205828Z
UID:16667-1740585600-1740589200@www.hffdl.org
SUMMARY:Rosary
DESCRIPTION:
URL:https://www.hffdl.org/event/rosary/2025-02-26/
LOCATION:Holy Family St. Mary Church\, 59 E. Merrill Ave\, Fond du Lac\, WI\, 54935\, United States
END:VEVENT
BEGIN:VEVENT
DTSTART;TZID=America/Chicago:20250225T160000
DTEND;TZID=America/Chicago:20250225T170000
DTSTAMP:20260424T205541
CREATED:20220125T205828Z
LAST-MODIFIED:20220125T205828Z
UID:16666-1740499200-1740502800@www.hffdl.org
SUMMARY:Rosary
DESCRIPTION:
URL:https://www.hffdl.org/event/rosary/2025-02-25/
LOCATION:Holy Family St. Mary Church\, 59 E. Merrill Ave\, Fond du Lac\, WI\, 54935\, United States
END:VEVENT
BEGIN:VEVENT
DTSTART;TZID=America/Chicago:20250225T160000
DTEND;TZID=America/Chicago:20250225T170000
DTSTAMP:20260424T205541
CREATED:20210621T195746Z
LAST-MODIFIED:20210621T195746Z
UID:10367-1740499200-1740502800@www.hffdl.org
SUMMARY:Blessed Bites
DESCRIPTION:Every Tuesday at St. Mary Church\, those in need can get a free to-go meal\, canned goods\, and hygiene/cleaning items through the Blessed Bites program. Items are available from 4:30 to 5:30 pm – or until meals are gone. All who are in need are welcome.  \nEn St. Mary Church\, artículos que puedes llevar gratuitos son: productos enlatados y los artículos de cuidado personal / limpieza\, están disponibles a través de Blessed Bites los martes de 4:30 a 5:30 pm\, hasta agotar existencia. \n 
URL:https://www.hffdl.org/event/blessed-bites/2025-02-25/
LOCATION:Holy Family St. Mary Church\, 59 E. Merrill Ave\, Fond du Lac\, WI\, 54935\, United States
ATTACH;FMTTYPE=image/png:https://www.hffdl.org/wp-content/uploads/2021/06/Copy-of-Blessed-Bites-Facebook-posts-7.png
END:VEVENT
BEGIN:VEVENT
DTSTART;TZID=America/Chicago:20250225T080000
DTEND;TZID=America/Chicago:20250225T220000
DTSTAMP:20260424T205541
CREATED:20220125T204435Z
LAST-MODIFIED:20251023T163438Z
UID:10369-1740470400-1740520800@www.hffdl.org
SUMMARY:Holy Family Quilters Group
DESCRIPTION:The Holy Family Quilters meet every Tuesday morning from 8:00 to 10:00 am in the St. Mary’s Church basement. All the quilts that we make go to the less fortunate people in the area. We also make lap quilts for the area nursing homes. We can use small pieces or yardage of new material to make the tops and clean blankets and mattress pads\, also any sewing items.  These items can be dropped off at the church office\, or call Karen at (262) 629-4193 for pickup.
URL:https://www.hffdl.org/event/quilters-group/2025-02-25/
LOCATION:Holy Family St. Mary Church\, 59 E. Merrill Ave\, Fond du Lac\, WI\, 54935\, United States
END:VEVENT
BEGIN:VEVENT
DTSTART;TZID=America/Chicago:20250224T160000
DTEND;TZID=America/Chicago:20250224T170000
DTSTAMP:20260424T205541
CREATED:20220125T205828Z
LAST-MODIFIED:20220125T205828Z
UID:16665-1740412800-1740416400@www.hffdl.org
SUMMARY:Rosary
DESCRIPTION:
URL:https://www.hffdl.org/event/rosary/2025-02-24/
LOCATION:Holy Family St. Mary Church\, 59 E. Merrill Ave\, Fond du Lac\, WI\, 54935\, United States
END:VEVENT
BEGIN:VEVENT
DTSTART;TZID=America/Chicago:20250223T160000
DTEND;TZID=America/Chicago:20250223T170000
DTSTAMP:20260424T205541
CREATED:20220125T205828Z
LAST-MODIFIED:20220125T205828Z
UID:16664-1740326400-1740330000@www.hffdl.org
SUMMARY:Rosary
DESCRIPTION:
URL:https://www.hffdl.org/event/rosary/2025-02-23/
LOCATION:Holy Family St. Mary Church\, 59 E. Merrill Ave\, Fond du Lac\, WI\, 54935\, United States
END:VEVENT
BEGIN:VEVENT
DTSTART;TZID=America/Chicago:20250222T160000
DTEND;TZID=America/Chicago:20250222T170000
DTSTAMP:20260424T205541
CREATED:20220125T205828Z
LAST-MODIFIED:20220125T205828Z
UID:16663-1740240000-1740243600@www.hffdl.org
SUMMARY:Rosary
DESCRIPTION:
URL:https://www.hffdl.org/event/rosary/2025-02-22/
LOCATION:Holy Family St. Mary Church\, 59 E. Merrill Ave\, Fond du Lac\, WI\, 54935\, United States
END:VEVENT
BEGIN:VEVENT
DTSTART;TZID=America/Chicago:20250221T160000
DTEND;TZID=America/Chicago:20250221T170000
DTSTAMP:20260424T205541
CREATED:20220125T205828Z
LAST-MODIFIED:20220125T205828Z
UID:16662-1740153600-1740157200@www.hffdl.org
SUMMARY:Rosary
DESCRIPTION:
URL:https://www.hffdl.org/event/rosary/2025-02-21/
LOCATION:Holy Family St. Mary Church\, 59 E. Merrill Ave\, Fond du Lac\, WI\, 54935\, United States
END:VEVENT
BEGIN:VEVENT
DTSTART;TZID=America/Chicago:20250220T160000
DTEND;TZID=America/Chicago:20250220T170000
DTSTAMP:20260424T205541
CREATED:20220125T205828Z
LAST-MODIFIED:20220125T205828Z
UID:16661-1740067200-1740070800@www.hffdl.org
SUMMARY:Rosary
DESCRIPTION:
URL:https://www.hffdl.org/event/rosary/2025-02-20/
LOCATION:Holy Family St. Mary Church\, 59 E. Merrill Ave\, Fond du Lac\, WI\, 54935\, United States
END:VEVENT
BEGIN:VEVENT
DTSTART;TZID=America/Chicago:20250219T160000
DTEND;TZID=America/Chicago:20250219T170000
DTSTAMP:20260424T205541
CREATED:20220125T205828Z
LAST-MODIFIED:20220125T205828Z
UID:16660-1739980800-1739984400@www.hffdl.org
SUMMARY:Rosary
DESCRIPTION:
URL:https://www.hffdl.org/event/rosary/2025-02-19/
LOCATION:Holy Family St. Mary Church\, 59 E. Merrill Ave\, Fond du Lac\, WI\, 54935\, United States
END:VEVENT
BEGIN:VEVENT
DTSTART;TZID=America/Chicago:20250218T160000
DTEND;TZID=America/Chicago:20250218T170000
DTSTAMP:20260424T205541
CREATED:20220125T205828Z
LAST-MODIFIED:20220125T205828Z
UID:16659-1739894400-1739898000@www.hffdl.org
SUMMARY:Rosary
DESCRIPTION:
URL:https://www.hffdl.org/event/rosary/2025-02-18/
LOCATION:Holy Family St. Mary Church\, 59 E. Merrill Ave\, Fond du Lac\, WI\, 54935\, United States
END:VEVENT
BEGIN:VEVENT
DTSTART;TZID=America/Chicago:20250218T160000
DTEND;TZID=America/Chicago:20250218T170000
DTSTAMP:20260424T205541
CREATED:20210621T195746Z
LAST-MODIFIED:20210621T195746Z
UID:10310-1739894400-1739898000@www.hffdl.org
SUMMARY:Blessed Bites
DESCRIPTION:Every Tuesday at St. Mary Church\, those in need can get a free to-go meal\, canned goods\, and hygiene/cleaning items through the Blessed Bites program. Items are available from 4:30 to 5:30 pm – or until meals are gone. All who are in need are welcome.  \nEn St. Mary Church\, artículos que puedes llevar gratuitos son: productos enlatados y los artículos de cuidado personal / limpieza\, están disponibles a través de Blessed Bites los martes de 4:30 a 5:30 pm\, hasta agotar existencia. \n 
URL:https://www.hffdl.org/event/blessed-bites/2025-02-18/
LOCATION:Holy Family St. Mary Church\, 59 E. Merrill Ave\, Fond du Lac\, WI\, 54935\, United States
ATTACH;FMTTYPE=image/png:https://www.hffdl.org/wp-content/uploads/2021/06/Copy-of-Blessed-Bites-Facebook-posts-7.png
END:VEVENT
BEGIN:VEVENT
DTSTART;TZID=America/Chicago:20250218T080000
DTEND;TZID=America/Chicago:20250218T220000
DTSTAMP:20260424T205541
CREATED:20220125T204435Z
LAST-MODIFIED:20251023T163433Z
UID:10312-1739865600-1739916000@www.hffdl.org
SUMMARY:Holy Family Quilters Group
DESCRIPTION:The Holy Family Quilters meet every Tuesday morning from 8:00 to 10:00 am in the St. Mary’s Church basement. All the quilts that we make go to the less fortunate people in the area. We also make lap quilts for the area nursing homes. We can use small pieces or yardage of new material to make the tops and clean blankets and mattress pads\, also any sewing items.  These items can be dropped off at the church office\, or call Karen at (262) 629-4193 for pickup.
URL:https://www.hffdl.org/event/quilters-group/2025-02-18/
LOCATION:Holy Family St. Mary Church\, 59 E. Merrill Ave\, Fond du Lac\, WI\, 54935\, United States
END:VEVENT
BEGIN:VEVENT
DTSTART;TZID=America/Chicago:20250217T160000
DTEND;TZID=America/Chicago:20250217T170000
DTSTAMP:20260424T205541
CREATED:20220125T205828Z
LAST-MODIFIED:20220125T205828Z
UID:16658-1739808000-1739811600@www.hffdl.org
SUMMARY:Rosary
DESCRIPTION:
URL:https://www.hffdl.org/event/rosary/2025-02-17/
LOCATION:Holy Family St. Mary Church\, 59 E. Merrill Ave\, Fond du Lac\, WI\, 54935\, United States
END:VEVENT
END:VCALENDAR