BEGIN:VCALENDAR
VERSION:2.0
PRODID:-//Holy Family Catholic Church - ECPv6.15.12.2//NONSGML v1.0//EN
CALSCALE:GREGORIAN
METHOD:PUBLISH
X-WR-CALNAME:Holy Family Catholic Church
X-ORIGINAL-URL:https://www.hffdl.org
X-WR-CALDESC:Events for Holy Family Catholic Church
REFRESH-INTERVAL;VALUE=DURATION:PT1H
X-Robots-Tag:noindex
X-PUBLISHED-TTL:PT1H
BEGIN:VTIMEZONE
TZID:America/Chicago
BEGIN:DAYLIGHT
TZOFFSETFROM:-0600
TZOFFSETTO:-0500
TZNAME:CDT
DTSTART:20240310T080000
END:DAYLIGHT
BEGIN:STANDARD
TZOFFSETFROM:-0500
TZOFFSETTO:-0600
TZNAME:CST
DTSTART:20241103T070000
END:STANDARD
BEGIN:DAYLIGHT
TZOFFSETFROM:-0600
TZOFFSETTO:-0500
TZNAME:CDT
DTSTART:20250309T080000
END:DAYLIGHT
BEGIN:STANDARD
TZOFFSETFROM:-0500
TZOFFSETTO:-0600
TZNAME:CST
DTSTART:20251102T070000
END:STANDARD
BEGIN:DAYLIGHT
TZOFFSETFROM:-0600
TZOFFSETTO:-0500
TZNAME:CDT
DTSTART:20260308T080000
END:DAYLIGHT
BEGIN:STANDARD
TZOFFSETFROM:-0500
TZOFFSETTO:-0600
TZNAME:CST
DTSTART:20261101T070000
END:STANDARD
END:VTIMEZONE
BEGIN:VEVENT
DTSTART;TZID=America/Chicago:20250330T160000
DTEND;TZID=America/Chicago:20250330T170000
DTSTAMP:20260424T181300
CREATED:20220125T205828Z
LAST-MODIFIED:20220125T205828Z
UID:16699-1743350400-1743354000@www.hffdl.org
SUMMARY:Rosary
DESCRIPTION:
URL:https://www.hffdl.org/event/rosary/2025-03-30/
LOCATION:Holy Family St. Mary Church\, 59 E. Merrill Ave\, Fond du Lac\, WI\, 54935\, United States
END:VEVENT
BEGIN:VEVENT
DTSTART;TZID=America/Chicago:20250329T160000
DTEND;TZID=America/Chicago:20250329T170000
DTSTAMP:20260424T181300
CREATED:20220125T205828Z
LAST-MODIFIED:20220125T205828Z
UID:16698-1743264000-1743267600@www.hffdl.org
SUMMARY:Rosary
DESCRIPTION:
URL:https://www.hffdl.org/event/rosary/2025-03-29/
LOCATION:Holy Family St. Mary Church\, 59 E. Merrill Ave\, Fond du Lac\, WI\, 54935\, United States
END:VEVENT
BEGIN:VEVENT
DTSTART;TZID=America/Chicago:20250328T160000
DTEND;TZID=America/Chicago:20250328T170000
DTSTAMP:20260424T181300
CREATED:20220125T205828Z
LAST-MODIFIED:20220125T205828Z
UID:16697-1743177600-1743181200@www.hffdl.org
SUMMARY:Rosary
DESCRIPTION:
URL:https://www.hffdl.org/event/rosary/2025-03-28/
LOCATION:Holy Family St. Mary Church\, 59 E. Merrill Ave\, Fond du Lac\, WI\, 54935\, United States
END:VEVENT
BEGIN:VEVENT
DTSTART;TZID=America/Chicago:20250327T160000
DTEND;TZID=America/Chicago:20250327T170000
DTSTAMP:20260424T181300
CREATED:20220125T205828Z
LAST-MODIFIED:20220125T205828Z
UID:16696-1743091200-1743094800@www.hffdl.org
SUMMARY:Rosary
DESCRIPTION:
URL:https://www.hffdl.org/event/rosary/2025-03-27/
LOCATION:Holy Family St. Mary Church\, 59 E. Merrill Ave\, Fond du Lac\, WI\, 54935\, United States
END:VEVENT
BEGIN:VEVENT
DTSTART;TZID=America/Chicago:20250326T160000
DTEND;TZID=America/Chicago:20250326T170000
DTSTAMP:20260424T181300
CREATED:20220125T205828Z
LAST-MODIFIED:20220125T205828Z
UID:16695-1743004800-1743008400@www.hffdl.org
SUMMARY:Rosary
DESCRIPTION:
URL:https://www.hffdl.org/event/rosary/2025-03-26/
LOCATION:Holy Family St. Mary Church\, 59 E. Merrill Ave\, Fond du Lac\, WI\, 54935\, United States
END:VEVENT
BEGIN:VEVENT
DTSTART;TZID=America/Chicago:20250325T160000
DTEND;TZID=America/Chicago:20250325T170000
DTSTAMP:20260424T181300
CREATED:20220125T205828Z
LAST-MODIFIED:20220125T205828Z
UID:16694-1742918400-1742922000@www.hffdl.org
SUMMARY:Rosary
DESCRIPTION:
URL:https://www.hffdl.org/event/rosary/2025-03-25/
LOCATION:Holy Family St. Mary Church\, 59 E. Merrill Ave\, Fond du Lac\, WI\, 54935\, United States
END:VEVENT
BEGIN:VEVENT
DTSTART;TZID=America/Chicago:20250325T160000
DTEND;TZID=America/Chicago:20250325T170000
DTSTAMP:20260424T181300
CREATED:20210621T195746Z
LAST-MODIFIED:20210621T195746Z
UID:10476-1742918400-1742922000@www.hffdl.org
SUMMARY:Blessed Bites
DESCRIPTION:Every Tuesday at St. Mary Church\, those in need can get a free to-go meal\, canned goods\, and hygiene/cleaning items through the Blessed Bites program. Items are available from 4:30 to 5:30 pm – or until meals are gone. All who are in need are welcome.  \nEn St. Mary Church\, artículos que puedes llevar gratuitos son: productos enlatados y los artículos de cuidado personal / limpieza\, están disponibles a través de Blessed Bites los martes de 4:30 a 5:30 pm\, hasta agotar existencia. \n 
URL:https://www.hffdl.org/event/blessed-bites/2025-03-25/
LOCATION:Holy Family St. Mary Church\, 59 E. Merrill Ave\, Fond du Lac\, WI\, 54935\, United States
ATTACH;FMTTYPE=image/png:https://www.hffdl.org/wp-content/uploads/2021/06/Copy-of-Blessed-Bites-Facebook-posts-7.png
END:VEVENT
BEGIN:VEVENT
DTSTART;TZID=America/Chicago:20250325T080000
DTEND;TZID=America/Chicago:20250325T220000
DTSTAMP:20260424T181301
CREATED:20220125T204435Z
LAST-MODIFIED:20251023T163446Z
UID:10478-1742889600-1742940000@www.hffdl.org
SUMMARY:Holy Family Quilters Group
DESCRIPTION:The Holy Family Quilters meet every Tuesday morning from 8:00 to 10:00 am in the St. Mary’s Church basement. All the quilts that we make go to the less fortunate people in the area. We also make lap quilts for the area nursing homes. We can use small pieces or yardage of new material to make the tops and clean blankets and mattress pads\, also any sewing items.  These items can be dropped off at the church office\, or call Karen at (262) 629-4193 for pickup.
URL:https://www.hffdl.org/event/quilters-group/2025-03-25/
LOCATION:Holy Family St. Mary Church\, 59 E. Merrill Ave\, Fond du Lac\, WI\, 54935\, United States
END:VEVENT
BEGIN:VEVENT
DTSTART;TZID=America/Chicago:20250324T160000
DTEND;TZID=America/Chicago:20250324T170000
DTSTAMP:20260424T181301
CREATED:20220125T205828Z
LAST-MODIFIED:20220125T205828Z
UID:16693-1742832000-1742835600@www.hffdl.org
SUMMARY:Rosary
DESCRIPTION:
URL:https://www.hffdl.org/event/rosary/2025-03-24/
LOCATION:Holy Family St. Mary Church\, 59 E. Merrill Ave\, Fond du Lac\, WI\, 54935\, United States
END:VEVENT
BEGIN:VEVENT
DTSTART;TZID=America/Chicago:20250323T160000
DTEND;TZID=America/Chicago:20250323T170000
DTSTAMP:20260424T181301
CREATED:20220125T205828Z
LAST-MODIFIED:20220125T205828Z
UID:16692-1742745600-1742749200@www.hffdl.org
SUMMARY:Rosary
DESCRIPTION:
URL:https://www.hffdl.org/event/rosary/2025-03-23/
LOCATION:Holy Family St. Mary Church\, 59 E. Merrill Ave\, Fond du Lac\, WI\, 54935\, United States
END:VEVENT
BEGIN:VEVENT
DTSTART;TZID=America/Chicago:20250322T160000
DTEND;TZID=America/Chicago:20250322T170000
DTSTAMP:20260424T181301
CREATED:20220125T205828Z
LAST-MODIFIED:20220125T205828Z
UID:16691-1742659200-1742662800@www.hffdl.org
SUMMARY:Rosary
DESCRIPTION:
URL:https://www.hffdl.org/event/rosary/2025-03-22/
LOCATION:Holy Family St. Mary Church\, 59 E. Merrill Ave\, Fond du Lac\, WI\, 54935\, United States
END:VEVENT
BEGIN:VEVENT
DTSTART;TZID=America/Chicago:20250321T160000
DTEND;TZID=America/Chicago:20250321T170000
DTSTAMP:20260424T181301
CREATED:20220125T205828Z
LAST-MODIFIED:20220125T205828Z
UID:16690-1742572800-1742576400@www.hffdl.org
SUMMARY:Rosary
DESCRIPTION:
URL:https://www.hffdl.org/event/rosary/2025-03-21/
LOCATION:Holy Family St. Mary Church\, 59 E. Merrill Ave\, Fond du Lac\, WI\, 54935\, United States
END:VEVENT
BEGIN:VEVENT
DTSTART;TZID=America/Chicago:20250320T160000
DTEND;TZID=America/Chicago:20250320T170000
DTSTAMP:20260424T181301
CREATED:20220125T205828Z
LAST-MODIFIED:20220125T205828Z
UID:16689-1742486400-1742490000@www.hffdl.org
SUMMARY:Rosary
DESCRIPTION:
URL:https://www.hffdl.org/event/rosary/2025-03-20/
LOCATION:Holy Family St. Mary Church\, 59 E. Merrill Ave\, Fond du Lac\, WI\, 54935\, United States
END:VEVENT
BEGIN:VEVENT
DTSTART;TZID=America/Chicago:20250319T160000
DTEND;TZID=America/Chicago:20250319T170000
DTSTAMP:20260424T181301
CREATED:20220125T205828Z
LAST-MODIFIED:20220125T205828Z
UID:16688-1742400000-1742403600@www.hffdl.org
SUMMARY:Rosary
DESCRIPTION:
URL:https://www.hffdl.org/event/rosary/2025-03-19/
LOCATION:Holy Family St. Mary Church\, 59 E. Merrill Ave\, Fond du Lac\, WI\, 54935\, United States
END:VEVENT
BEGIN:VEVENT
DTSTART;TZID=America/Chicago:20250318T160000
DTEND;TZID=America/Chicago:20250318T170000
DTSTAMP:20260424T181301
CREATED:20220125T205828Z
LAST-MODIFIED:20220125T205828Z
UID:16687-1742313600-1742317200@www.hffdl.org
SUMMARY:Rosary
DESCRIPTION:
URL:https://www.hffdl.org/event/rosary/2025-03-18/
LOCATION:Holy Family St. Mary Church\, 59 E. Merrill Ave\, Fond du Lac\, WI\, 54935\, United States
END:VEVENT
BEGIN:VEVENT
DTSTART;TZID=America/Chicago:20250318T160000
DTEND;TZID=America/Chicago:20250318T170000
DTSTAMP:20260424T181301
CREATED:20210621T195746Z
LAST-MODIFIED:20210621T195746Z
UID:10451-1742313600-1742317200@www.hffdl.org
SUMMARY:Blessed Bites
DESCRIPTION:Every Tuesday at St. Mary Church\, those in need can get a free to-go meal\, canned goods\, and hygiene/cleaning items through the Blessed Bites program. Items are available from 4:30 to 5:30 pm – or until meals are gone. All who are in need are welcome.  \nEn St. Mary Church\, artículos que puedes llevar gratuitos son: productos enlatados y los artículos de cuidado personal / limpieza\, están disponibles a través de Blessed Bites los martes de 4:30 a 5:30 pm\, hasta agotar existencia. \n 
URL:https://www.hffdl.org/event/blessed-bites/2025-03-18/
LOCATION:Holy Family St. Mary Church\, 59 E. Merrill Ave\, Fond du Lac\, WI\, 54935\, United States
ATTACH;FMTTYPE=image/png:https://www.hffdl.org/wp-content/uploads/2021/06/Copy-of-Blessed-Bites-Facebook-posts-7.png
END:VEVENT
BEGIN:VEVENT
DTSTART;TZID=America/Chicago:20250318T080000
DTEND;TZID=America/Chicago:20250318T220000
DTSTAMP:20260424T181301
CREATED:20220125T204435Z
LAST-MODIFIED:20251023T163444Z
UID:10453-1742284800-1742335200@www.hffdl.org
SUMMARY:Holy Family Quilters Group
DESCRIPTION:The Holy Family Quilters meet every Tuesday morning from 8:00 to 10:00 am in the St. Mary’s Church basement. All the quilts that we make go to the less fortunate people in the area. We also make lap quilts for the area nursing homes. We can use small pieces or yardage of new material to make the tops and clean blankets and mattress pads\, also any sewing items.  These items can be dropped off at the church office\, or call Karen at (262) 629-4193 for pickup.
URL:https://www.hffdl.org/event/quilters-group/2025-03-18/
LOCATION:Holy Family St. Mary Church\, 59 E. Merrill Ave\, Fond du Lac\, WI\, 54935\, United States
END:VEVENT
BEGIN:VEVENT
DTSTART;TZID=America/Chicago:20250317T160000
DTEND;TZID=America/Chicago:20250317T170000
DTSTAMP:20260424T181301
CREATED:20220125T205828Z
LAST-MODIFIED:20220125T205828Z
UID:16686-1742227200-1742230800@www.hffdl.org
SUMMARY:Rosary
DESCRIPTION:
URL:https://www.hffdl.org/event/rosary/2025-03-17/
LOCATION:Holy Family St. Mary Church\, 59 E. Merrill Ave\, Fond du Lac\, WI\, 54935\, United States
END:VEVENT
BEGIN:VEVENT
DTSTART;TZID=America/Chicago:20250316T160000
DTEND;TZID=America/Chicago:20250316T170000
DTSTAMP:20260424T181301
CREATED:20220125T205828Z
LAST-MODIFIED:20220125T205828Z
UID:16685-1742140800-1742144400@www.hffdl.org
SUMMARY:Rosary
DESCRIPTION:
URL:https://www.hffdl.org/event/rosary/2025-03-16/
LOCATION:Holy Family St. Mary Church\, 59 E. Merrill Ave\, Fond du Lac\, WI\, 54935\, United States
END:VEVENT
BEGIN:VEVENT
DTSTART;TZID=America/Chicago:20250315T160000
DTEND;TZID=America/Chicago:20250315T170000
DTSTAMP:20260424T181301
CREATED:20220125T205828Z
LAST-MODIFIED:20220125T205828Z
UID:16684-1742054400-1742058000@www.hffdl.org
SUMMARY:Rosary
DESCRIPTION:
URL:https://www.hffdl.org/event/rosary/2025-03-15/
LOCATION:Holy Family St. Mary Church\, 59 E. Merrill Ave\, Fond du Lac\, WI\, 54935\, United States
END:VEVENT
BEGIN:VEVENT
DTSTART;TZID=America/Chicago:20250314T160000
DTEND;TZID=America/Chicago:20250314T170000
DTSTAMP:20260424T181301
CREATED:20220125T205828Z
LAST-MODIFIED:20220125T205828Z
UID:16683-1741968000-1741971600@www.hffdl.org
SUMMARY:Rosary
DESCRIPTION:
URL:https://www.hffdl.org/event/rosary/2025-03-14/
LOCATION:Holy Family St. Mary Church\, 59 E. Merrill Ave\, Fond du Lac\, WI\, 54935\, United States
END:VEVENT
BEGIN:VEVENT
DTSTART;TZID=America/Chicago:20250313T160000
DTEND;TZID=America/Chicago:20250313T170000
DTSTAMP:20260424T181301
CREATED:20220125T205828Z
LAST-MODIFIED:20220125T205828Z
UID:16682-1741881600-1741885200@www.hffdl.org
SUMMARY:Rosary
DESCRIPTION:
URL:https://www.hffdl.org/event/rosary/2025-03-13/
LOCATION:Holy Family St. Mary Church\, 59 E. Merrill Ave\, Fond du Lac\, WI\, 54935\, United States
END:VEVENT
BEGIN:VEVENT
DTSTART;TZID=America/Chicago:20250312T160000
DTEND;TZID=America/Chicago:20250312T170000
DTSTAMP:20260424T181301
CREATED:20220125T205828Z
LAST-MODIFIED:20220125T205828Z
UID:16681-1741795200-1741798800@www.hffdl.org
SUMMARY:Rosary
DESCRIPTION:
URL:https://www.hffdl.org/event/rosary/2025-03-12/
LOCATION:Holy Family St. Mary Church\, 59 E. Merrill Ave\, Fond du Lac\, WI\, 54935\, United States
END:VEVENT
BEGIN:VEVENT
DTSTART;TZID=America/Chicago:20250311T160000
DTEND;TZID=America/Chicago:20250311T170000
DTSTAMP:20260424T181301
CREATED:20220125T205828Z
LAST-MODIFIED:20220125T205828Z
UID:16680-1741708800-1741712400@www.hffdl.org
SUMMARY:Rosary
DESCRIPTION:
URL:https://www.hffdl.org/event/rosary/2025-03-11/
LOCATION:Holy Family St. Mary Church\, 59 E. Merrill Ave\, Fond du Lac\, WI\, 54935\, United States
END:VEVENT
BEGIN:VEVENT
DTSTART;TZID=America/Chicago:20250311T160000
DTEND;TZID=America/Chicago:20250311T170000
DTSTAMP:20260424T181301
CREATED:20210621T195746Z
LAST-MODIFIED:20210621T195746Z
UID:10415-1741708800-1741712400@www.hffdl.org
SUMMARY:Blessed Bites
DESCRIPTION:Every Tuesday at St. Mary Church\, those in need can get a free to-go meal\, canned goods\, and hygiene/cleaning items through the Blessed Bites program. Items are available from 4:30 to 5:30 pm – or until meals are gone. All who are in need are welcome.  \nEn St. Mary Church\, artículos que puedes llevar gratuitos son: productos enlatados y los artículos de cuidado personal / limpieza\, están disponibles a través de Blessed Bites los martes de 4:30 a 5:30 pm\, hasta agotar existencia. \n 
URL:https://www.hffdl.org/event/blessed-bites/2025-03-11/
LOCATION:Holy Family St. Mary Church\, 59 E. Merrill Ave\, Fond du Lac\, WI\, 54935\, United States
ATTACH;FMTTYPE=image/png:https://www.hffdl.org/wp-content/uploads/2021/06/Copy-of-Blessed-Bites-Facebook-posts-7.png
END:VEVENT
BEGIN:VEVENT
DTSTART;TZID=America/Chicago:20250311T080000
DTEND;TZID=America/Chicago:20250311T220000
DTSTAMP:20260424T181301
CREATED:20220125T204435Z
LAST-MODIFIED:20251023T163442Z
UID:10417-1741680000-1741730400@www.hffdl.org
SUMMARY:Holy Family Quilters Group
DESCRIPTION:The Holy Family Quilters meet every Tuesday morning from 8:00 to 10:00 am in the St. Mary’s Church basement. All the quilts that we make go to the less fortunate people in the area. We also make lap quilts for the area nursing homes. We can use small pieces or yardage of new material to make the tops and clean blankets and mattress pads\, also any sewing items.  These items can be dropped off at the church office\, or call Karen at (262) 629-4193 for pickup.
URL:https://www.hffdl.org/event/quilters-group/2025-03-11/
LOCATION:Holy Family St. Mary Church\, 59 E. Merrill Ave\, Fond du Lac\, WI\, 54935\, United States
END:VEVENT
BEGIN:VEVENT
DTSTART;TZID=America/Chicago:20250310T160000
DTEND;TZID=America/Chicago:20250310T170000
DTSTAMP:20260424T181301
CREATED:20220125T205828Z
LAST-MODIFIED:20220125T205828Z
UID:16679-1741622400-1741626000@www.hffdl.org
SUMMARY:Rosary
DESCRIPTION:
URL:https://www.hffdl.org/event/rosary/2025-03-10/
LOCATION:Holy Family St. Mary Church\, 59 E. Merrill Ave\, Fond du Lac\, WI\, 54935\, United States
END:VEVENT
BEGIN:VEVENT
DTSTART;TZID=America/Chicago:20250309T160000
DTEND;TZID=America/Chicago:20250309T170000
DTSTAMP:20260424T181301
CREATED:20220125T205828Z
LAST-MODIFIED:20220125T205828Z
UID:16678-1741536000-1741539600@www.hffdl.org
SUMMARY:Rosary
DESCRIPTION:
URL:https://www.hffdl.org/event/rosary/2025-03-09/
LOCATION:Holy Family St. Mary Church\, 59 E. Merrill Ave\, Fond du Lac\, WI\, 54935\, United States
END:VEVENT
BEGIN:VEVENT
DTSTART;TZID=America/Chicago:20250308T160000
DTEND;TZID=America/Chicago:20250308T170000
DTSTAMP:20260424T181301
CREATED:20220125T205828Z
LAST-MODIFIED:20220125T205828Z
UID:16677-1741449600-1741453200@www.hffdl.org
SUMMARY:Rosary
DESCRIPTION:
URL:https://www.hffdl.org/event/rosary/2025-03-08/
LOCATION:Holy Family St. Mary Church\, 59 E. Merrill Ave\, Fond du Lac\, WI\, 54935\, United States
END:VEVENT
BEGIN:VEVENT
DTSTART;TZID=America/Chicago:20250307T160000
DTEND;TZID=America/Chicago:20250307T170000
DTSTAMP:20260424T181301
CREATED:20220125T205828Z
LAST-MODIFIED:20220125T205828Z
UID:16676-1741363200-1741366800@www.hffdl.org
SUMMARY:Rosary
DESCRIPTION:
URL:https://www.hffdl.org/event/rosary/2025-03-07/
LOCATION:Holy Family St. Mary Church\, 59 E. Merrill Ave\, Fond du Lac\, WI\, 54935\, United States
END:VEVENT
END:VCALENDAR