BEGIN:VCALENDAR
VERSION:2.0
PRODID:-//Holy Family Catholic Church - ECPv6.15.12.2//NONSGML v1.0//EN
CALSCALE:GREGORIAN
METHOD:PUBLISH
X-ORIGINAL-URL:https://www.hffdl.org
X-WR-CALDESC:Events for Holy Family Catholic Church
REFRESH-INTERVAL;VALUE=DURATION:PT1H
X-Robots-Tag:noindex
X-PUBLISHED-TTL:PT1H
BEGIN:VTIMEZONE
TZID:America/Chicago
BEGIN:DAYLIGHT
TZOFFSETFROM:-0600
TZOFFSETTO:-0500
TZNAME:CDT
DTSTART:20240310T080000
END:DAYLIGHT
BEGIN:STANDARD
TZOFFSETFROM:-0500
TZOFFSETTO:-0600
TZNAME:CST
DTSTART:20241103T070000
END:STANDARD
BEGIN:DAYLIGHT
TZOFFSETFROM:-0600
TZOFFSETTO:-0500
TZNAME:CDT
DTSTART:20250309T080000
END:DAYLIGHT
BEGIN:STANDARD
TZOFFSETFROM:-0500
TZOFFSETTO:-0600
TZNAME:CST
DTSTART:20251102T070000
END:STANDARD
BEGIN:DAYLIGHT
TZOFFSETFROM:-0600
TZOFFSETTO:-0500
TZNAME:CDT
DTSTART:20260308T080000
END:DAYLIGHT
BEGIN:STANDARD
TZOFFSETFROM:-0500
TZOFFSETTO:-0600
TZNAME:CST
DTSTART:20261101T070000
END:STANDARD
END:VTIMEZONE
BEGIN:VEVENT
DTSTART;TZID=America/Chicago:20250719T160000
DTEND;TZID=America/Chicago:20250719T170000
DTSTAMP:20260423T224225
CREATED:20220125T205828Z
LAST-MODIFIED:20220125T205828Z
UID:16810-1752940800-1752944400@www.hffdl.org
SUMMARY:Rosary
DESCRIPTION:
URL:https://www.hffdl.org/event/rosary/2025-07-19/
LOCATION:Holy Family St. Mary Church\, 59 E. Merrill Ave\, Fond du Lac\, WI\, 54935\, United States
END:VEVENT
BEGIN:VEVENT
DTSTART;TZID=America/Chicago:20250718T160000
DTEND;TZID=America/Chicago:20250718T170000
DTSTAMP:20260423T224225
CREATED:20220125T205828Z
LAST-MODIFIED:20220125T205828Z
UID:16809-1752854400-1752858000@www.hffdl.org
SUMMARY:Rosary
DESCRIPTION:
URL:https://www.hffdl.org/event/rosary/2025-07-18/
LOCATION:Holy Family St. Mary Church\, 59 E. Merrill Ave\, Fond du Lac\, WI\, 54935\, United States
END:VEVENT
BEGIN:VEVENT
DTSTART;TZID=America/Chicago:20250717T160000
DTEND;TZID=America/Chicago:20250717T170000
DTSTAMP:20260423T224225
CREATED:20220125T205828Z
LAST-MODIFIED:20220125T205828Z
UID:16808-1752768000-1752771600@www.hffdl.org
SUMMARY:Rosary
DESCRIPTION:
URL:https://www.hffdl.org/event/rosary/2025-07-17/
LOCATION:Holy Family St. Mary Church\, 59 E. Merrill Ave\, Fond du Lac\, WI\, 54935\, United States
END:VEVENT
BEGIN:VEVENT
DTSTART;TZID=America/Chicago:20250716T160000
DTEND;TZID=America/Chicago:20250716T170000
DTSTAMP:20260423T224225
CREATED:20220125T205828Z
LAST-MODIFIED:20220125T205828Z
UID:16807-1752681600-1752685200@www.hffdl.org
SUMMARY:Rosary
DESCRIPTION:
URL:https://www.hffdl.org/event/rosary/2025-07-16/
LOCATION:Holy Family St. Mary Church\, 59 E. Merrill Ave\, Fond du Lac\, WI\, 54935\, United States
END:VEVENT
BEGIN:VEVENT
DTSTART;TZID=America/Chicago:20250715T160000
DTEND;TZID=America/Chicago:20250715T170000
DTSTAMP:20260423T224225
CREATED:20220125T205828Z
LAST-MODIFIED:20220125T205828Z
UID:16806-1752595200-1752598800@www.hffdl.org
SUMMARY:Rosary
DESCRIPTION:
URL:https://www.hffdl.org/event/rosary/2025-07-15/
LOCATION:Holy Family St. Mary Church\, 59 E. Merrill Ave\, Fond du Lac\, WI\, 54935\, United States
END:VEVENT
BEGIN:VEVENT
DTSTART;TZID=America/Chicago:20250715T160000
DTEND;TZID=America/Chicago:20250715T170000
DTSTAMP:20260423T224225
CREATED:20210621T195746Z
LAST-MODIFIED:20260119T155507Z
UID:10993-1752595200-1752598800@www.hffdl.org
SUMMARY:Blessed Bites
DESCRIPTION:Every Tuesday at the Holy Family Warming Shelter\, 73 E. First St.\, those in need can get a free to-go meal\, canned goods\, and hygiene/cleaning items through the Blessed Bites program. Items are available from 4:00 to 4:30 pm – or until meals are gone. All who are in need are welcome. \nEn Refugio de la Sagrada Familia\, 73 E. First St.\, artículos que puedes llevar gratuitos son: productos enlatados y los artículos de cuidado personal / limpieza\, están disponibles a través de Blessed Bites los martes de 4:00 a 4:30 pm\, hasta agotar existencia. \n 
URL:https://www.hffdl.org/event/blessed-bites-2025-05-20/2025-07-15/
LOCATION:Holy Family St. Mary Church\, 59 E. Merrill Ave\, Fond du Lac\, WI\, 54935\, United States
ATTACH;FMTTYPE=image/png:https://www.hffdl.org/wp-content/uploads/2021/06/15.png
END:VEVENT
BEGIN:VEVENT
DTSTART;TZID=America/Chicago:20250715T080000
DTEND;TZID=America/Chicago:20250715T220000
DTSTAMP:20260423T224225
CREATED:20220125T204435Z
LAST-MODIFIED:20251023T163525Z
UID:10995-1752566400-1752616800@www.hffdl.org
SUMMARY:Holy Family Quilters Group
DESCRIPTION:The Holy Family Quilters meet every Tuesday morning from 8:00 to 10:00 am in the St. Mary’s Church basement. All the quilts that we make go to the less fortunate people in the area. We also make lap quilts for the area nursing homes. We can use small pieces or yardage of new material to make the tops and clean blankets and mattress pads\, also any sewing items.  These items can be dropped off at the church office\, or call Karen at (262) 629-4193 for pickup.
URL:https://www.hffdl.org/event/quilters-group/2025-07-15/
LOCATION:Holy Family St. Mary Church\, 59 E. Merrill Ave\, Fond du Lac\, WI\, 54935\, United States
END:VEVENT
BEGIN:VEVENT
DTSTART;TZID=America/Chicago:20250714T160000
DTEND;TZID=America/Chicago:20250714T170000
DTSTAMP:20260423T224225
CREATED:20220125T205828Z
LAST-MODIFIED:20220125T205828Z
UID:16805-1752508800-1752512400@www.hffdl.org
SUMMARY:Rosary
DESCRIPTION:
URL:https://www.hffdl.org/event/rosary/2025-07-14/
LOCATION:Holy Family St. Mary Church\, 59 E. Merrill Ave\, Fond du Lac\, WI\, 54935\, United States
END:VEVENT
BEGIN:VEVENT
DTSTART;TZID=America/Chicago:20250713T160000
DTEND;TZID=America/Chicago:20250713T170000
DTSTAMP:20260423T224225
CREATED:20220125T205828Z
LAST-MODIFIED:20220125T205828Z
UID:16804-1752422400-1752426000@www.hffdl.org
SUMMARY:Rosary
DESCRIPTION:
URL:https://www.hffdl.org/event/rosary/2025-07-13/
LOCATION:Holy Family St. Mary Church\, 59 E. Merrill Ave\, Fond du Lac\, WI\, 54935\, United States
END:VEVENT
BEGIN:VEVENT
DTSTART;TZID=America/Chicago:20250712T160000
DTEND;TZID=America/Chicago:20250712T170000
DTSTAMP:20260423T224225
CREATED:20220125T205828Z
LAST-MODIFIED:20220125T205828Z
UID:16803-1752336000-1752339600@www.hffdl.org
SUMMARY:Rosary
DESCRIPTION:
URL:https://www.hffdl.org/event/rosary/2025-07-12/
LOCATION:Holy Family St. Mary Church\, 59 E. Merrill Ave\, Fond du Lac\, WI\, 54935\, United States
END:VEVENT
BEGIN:VEVENT
DTSTART;TZID=America/Chicago:20250711T160000
DTEND;TZID=America/Chicago:20250711T170000
DTSTAMP:20260423T224225
CREATED:20220125T205828Z
LAST-MODIFIED:20220125T205828Z
UID:16802-1752249600-1752253200@www.hffdl.org
SUMMARY:Rosary
DESCRIPTION:
URL:https://www.hffdl.org/event/rosary/2025-07-11/
LOCATION:Holy Family St. Mary Church\, 59 E. Merrill Ave\, Fond du Lac\, WI\, 54935\, United States
END:VEVENT
BEGIN:VEVENT
DTSTART;TZID=America/Chicago:20250710T160000
DTEND;TZID=America/Chicago:20250710T170000
DTSTAMP:20260423T224225
CREATED:20220125T205828Z
LAST-MODIFIED:20220125T205828Z
UID:16801-1752163200-1752166800@www.hffdl.org
SUMMARY:Rosary
DESCRIPTION:
URL:https://www.hffdl.org/event/rosary/2025-07-10/
LOCATION:Holy Family St. Mary Church\, 59 E. Merrill Ave\, Fond du Lac\, WI\, 54935\, United States
END:VEVENT
BEGIN:VEVENT
DTSTART;TZID=America/Chicago:20250709T160000
DTEND;TZID=America/Chicago:20250709T170000
DTSTAMP:20260423T224225
CREATED:20220125T205828Z
LAST-MODIFIED:20220125T205828Z
UID:16800-1752076800-1752080400@www.hffdl.org
SUMMARY:Rosary
DESCRIPTION:
URL:https://www.hffdl.org/event/rosary/2025-07-09/
LOCATION:Holy Family St. Mary Church\, 59 E. Merrill Ave\, Fond du Lac\, WI\, 54935\, United States
END:VEVENT
BEGIN:VEVENT
DTSTART;TZID=America/Chicago:20250708T160000
DTEND;TZID=America/Chicago:20250708T170000
DTSTAMP:20260423T224225
CREATED:20220125T205828Z
LAST-MODIFIED:20220125T205828Z
UID:16799-1751990400-1751994000@www.hffdl.org
SUMMARY:Rosary
DESCRIPTION:
URL:https://www.hffdl.org/event/rosary/2025-07-08/
LOCATION:Holy Family St. Mary Church\, 59 E. Merrill Ave\, Fond du Lac\, WI\, 54935\, United States
END:VEVENT
BEGIN:VEVENT
DTSTART;TZID=America/Chicago:20250708T160000
DTEND;TZID=America/Chicago:20250708T170000
DTSTAMP:20260423T224225
CREATED:20210621T195746Z
LAST-MODIFIED:20260119T155504Z
UID:10969-1751990400-1751994000@www.hffdl.org
SUMMARY:Blessed Bites
DESCRIPTION:Every Tuesday at the Holy Family Warming Shelter\, 73 E. First St.\, those in need can get a free to-go meal\, canned goods\, and hygiene/cleaning items through the Blessed Bites program. Items are available from 4:00 to 4:30 pm – or until meals are gone. All who are in need are welcome. \nEn Refugio de la Sagrada Familia\, 73 E. First St.\, artículos que puedes llevar gratuitos son: productos enlatados y los artículos de cuidado personal / limpieza\, están disponibles a través de Blessed Bites los martes de 4:00 a 4:30 pm\, hasta agotar existencia. \n 
URL:https://www.hffdl.org/event/blessed-bites-2025-05-20/2025-07-08/
LOCATION:Holy Family St. Mary Church\, 59 E. Merrill Ave\, Fond du Lac\, WI\, 54935\, United States
ATTACH;FMTTYPE=image/png:https://www.hffdl.org/wp-content/uploads/2021/06/15.png
END:VEVENT
BEGIN:VEVENT
DTSTART;TZID=America/Chicago:20250708T080000
DTEND;TZID=America/Chicago:20250708T220000
DTSTAMP:20260423T224225
CREATED:20220125T204435Z
LAST-MODIFIED:20251023T163520Z
UID:10971-1751961600-1752012000@www.hffdl.org
SUMMARY:Holy Family Quilters Group
DESCRIPTION:The Holy Family Quilters meet every Tuesday morning from 8:00 to 10:00 am in the St. Mary’s Church basement. All the quilts that we make go to the less fortunate people in the area. We also make lap quilts for the area nursing homes. We can use small pieces or yardage of new material to make the tops and clean blankets and mattress pads\, also any sewing items.  These items can be dropped off at the church office\, or call Karen at (262) 629-4193 for pickup.
URL:https://www.hffdl.org/event/quilters-group/2025-07-08/
LOCATION:Holy Family St. Mary Church\, 59 E. Merrill Ave\, Fond du Lac\, WI\, 54935\, United States
END:VEVENT
BEGIN:VEVENT
DTSTART;TZID=America/Chicago:20250707T160000
DTEND;TZID=America/Chicago:20250707T170000
DTSTAMP:20260423T224225
CREATED:20220125T205828Z
LAST-MODIFIED:20220125T205828Z
UID:16798-1751904000-1751907600@www.hffdl.org
SUMMARY:Rosary
DESCRIPTION:
URL:https://www.hffdl.org/event/rosary/2025-07-07/
LOCATION:Holy Family St. Mary Church\, 59 E. Merrill Ave\, Fond du Lac\, WI\, 54935\, United States
END:VEVENT
BEGIN:VEVENT
DTSTART;TZID=America/Chicago:20250706T160000
DTEND;TZID=America/Chicago:20250706T170000
DTSTAMP:20260423T224225
CREATED:20220125T205828Z
LAST-MODIFIED:20220125T205828Z
UID:16797-1751817600-1751821200@www.hffdl.org
SUMMARY:Rosary
DESCRIPTION:
URL:https://www.hffdl.org/event/rosary/2025-07-06/
LOCATION:Holy Family St. Mary Church\, 59 E. Merrill Ave\, Fond du Lac\, WI\, 54935\, United States
END:VEVENT
BEGIN:VEVENT
DTSTART;TZID=America/Chicago:20250705T160000
DTEND;TZID=America/Chicago:20250705T170000
DTSTAMP:20260423T224225
CREATED:20220125T205828Z
LAST-MODIFIED:20220125T205828Z
UID:16796-1751731200-1751734800@www.hffdl.org
SUMMARY:Rosary
DESCRIPTION:
URL:https://www.hffdl.org/event/rosary/2025-07-05/
LOCATION:Holy Family St. Mary Church\, 59 E. Merrill Ave\, Fond du Lac\, WI\, 54935\, United States
END:VEVENT
BEGIN:VEVENT
DTSTART;TZID=America/Chicago:20250704T160000
DTEND;TZID=America/Chicago:20250704T170000
DTSTAMP:20260423T224225
CREATED:20220125T205828Z
LAST-MODIFIED:20220125T205828Z
UID:16795-1751644800-1751648400@www.hffdl.org
SUMMARY:Rosary
DESCRIPTION:
URL:https://www.hffdl.org/event/rosary/2025-07-04/
LOCATION:Holy Family St. Mary Church\, 59 E. Merrill Ave\, Fond du Lac\, WI\, 54935\, United States
END:VEVENT
BEGIN:VEVENT
DTSTART;TZID=America/Chicago:20250703T160000
DTEND;TZID=America/Chicago:20250703T170000
DTSTAMP:20260423T224225
CREATED:20220125T205828Z
LAST-MODIFIED:20220125T205828Z
UID:16794-1751558400-1751562000@www.hffdl.org
SUMMARY:Rosary
DESCRIPTION:
URL:https://www.hffdl.org/event/rosary/2025-07-03/
LOCATION:Holy Family St. Mary Church\, 59 E. Merrill Ave\, Fond du Lac\, WI\, 54935\, United States
END:VEVENT
BEGIN:VEVENT
DTSTART;TZID=America/Chicago:20250702T160000
DTEND;TZID=America/Chicago:20250702T170000
DTSTAMP:20260423T224225
CREATED:20220125T205828Z
LAST-MODIFIED:20220125T205828Z
UID:16793-1751472000-1751475600@www.hffdl.org
SUMMARY:Rosary
DESCRIPTION:
URL:https://www.hffdl.org/event/rosary/2025-07-02/
LOCATION:Holy Family St. Mary Church\, 59 E. Merrill Ave\, Fond du Lac\, WI\, 54935\, United States
END:VEVENT
BEGIN:VEVENT
DTSTART;TZID=America/Chicago:20250701T160000
DTEND;TZID=America/Chicago:20250701T170000
DTSTAMP:20260423T224225
CREATED:20220125T205828Z
LAST-MODIFIED:20220125T205828Z
UID:16792-1751385600-1751389200@www.hffdl.org
SUMMARY:Rosary
DESCRIPTION:
URL:https://www.hffdl.org/event/rosary/2025-07-01/
LOCATION:Holy Family St. Mary Church\, 59 E. Merrill Ave\, Fond du Lac\, WI\, 54935\, United States
END:VEVENT
BEGIN:VEVENT
DTSTART;TZID=America/Chicago:20250701T160000
DTEND;TZID=America/Chicago:20250701T170000
DTSTAMP:20260423T224225
CREATED:20210621T195746Z
LAST-MODIFIED:20260119T155501Z
UID:10954-1751385600-1751389200@www.hffdl.org
SUMMARY:Blessed Bites
DESCRIPTION:Every Tuesday at the Holy Family Warming Shelter\, 73 E. First St.\, those in need can get a free to-go meal\, canned goods\, and hygiene/cleaning items through the Blessed Bites program. Items are available from 4:00 to 4:30 pm – or until meals are gone. All who are in need are welcome. \nEn Refugio de la Sagrada Familia\, 73 E. First St.\, artículos que puedes llevar gratuitos son: productos enlatados y los artículos de cuidado personal / limpieza\, están disponibles a través de Blessed Bites los martes de 4:00 a 4:30 pm\, hasta agotar existencia. \n 
URL:https://www.hffdl.org/event/blessed-bites-2025-05-20/2025-07-01/
LOCATION:Holy Family St. Mary Church\, 59 E. Merrill Ave\, Fond du Lac\, WI\, 54935\, United States
ATTACH;FMTTYPE=image/png:https://www.hffdl.org/wp-content/uploads/2021/06/15.png
END:VEVENT
BEGIN:VEVENT
DTSTART;TZID=America/Chicago:20250701T080000
DTEND;TZID=America/Chicago:20250701T220000
DTSTAMP:20260423T224225
CREATED:20220125T204435Z
LAST-MODIFIED:20251023T163518Z
UID:10956-1751356800-1751407200@www.hffdl.org
SUMMARY:Holy Family Quilters Group
DESCRIPTION:The Holy Family Quilters meet every Tuesday morning from 8:00 to 10:00 am in the St. Mary’s Church basement. All the quilts that we make go to the less fortunate people in the area. We also make lap quilts for the area nursing homes. We can use small pieces or yardage of new material to make the tops and clean blankets and mattress pads\, also any sewing items.  These items can be dropped off at the church office\, or call Karen at (262) 629-4193 for pickup.
URL:https://www.hffdl.org/event/quilters-group/2025-07-01/
LOCATION:Holy Family St. Mary Church\, 59 E. Merrill Ave\, Fond du Lac\, WI\, 54935\, United States
END:VEVENT
BEGIN:VEVENT
DTSTART;TZID=America/Chicago:20250630T160000
DTEND;TZID=America/Chicago:20250630T170000
DTSTAMP:20260423T224225
CREATED:20220125T205828Z
LAST-MODIFIED:20220125T205828Z
UID:16791-1751299200-1751302800@www.hffdl.org
SUMMARY:Rosary
DESCRIPTION:
URL:https://www.hffdl.org/event/rosary/2025-06-30/
LOCATION:Holy Family St. Mary Church\, 59 E. Merrill Ave\, Fond du Lac\, WI\, 54935\, United States
END:VEVENT
BEGIN:VEVENT
DTSTART;TZID=America/Chicago:20250629T160000
DTEND;TZID=America/Chicago:20250629T170000
DTSTAMP:20260423T224225
CREATED:20220125T205828Z
LAST-MODIFIED:20220125T205828Z
UID:16790-1751212800-1751216400@www.hffdl.org
SUMMARY:Rosary
DESCRIPTION:
URL:https://www.hffdl.org/event/rosary/2025-06-29/
LOCATION:Holy Family St. Mary Church\, 59 E. Merrill Ave\, Fond du Lac\, WI\, 54935\, United States
END:VEVENT
BEGIN:VEVENT
DTSTART;TZID=America/Chicago:20250628T160000
DTEND;TZID=America/Chicago:20250628T170000
DTSTAMP:20260423T224225
CREATED:20220125T205828Z
LAST-MODIFIED:20220125T205828Z
UID:16789-1751126400-1751130000@www.hffdl.org
SUMMARY:Rosary
DESCRIPTION:
URL:https://www.hffdl.org/event/rosary/2025-06-28/
LOCATION:Holy Family St. Mary Church\, 59 E. Merrill Ave\, Fond du Lac\, WI\, 54935\, United States
END:VEVENT
BEGIN:VEVENT
DTSTART;TZID=America/Chicago:20250627T160000
DTEND;TZID=America/Chicago:20250627T170000
DTSTAMP:20260423T224225
CREATED:20220125T205828Z
LAST-MODIFIED:20220125T205828Z
UID:16788-1751040000-1751043600@www.hffdl.org
SUMMARY:Rosary
DESCRIPTION:
URL:https://www.hffdl.org/event/rosary/2025-06-27/
LOCATION:Holy Family St. Mary Church\, 59 E. Merrill Ave\, Fond du Lac\, WI\, 54935\, United States
END:VEVENT
BEGIN:VEVENT
DTSTART;TZID=America/Chicago:20250626T160000
DTEND;TZID=America/Chicago:20250626T170000
DTSTAMP:20260423T224225
CREATED:20220125T205828Z
LAST-MODIFIED:20220125T205828Z
UID:16787-1750953600-1750957200@www.hffdl.org
SUMMARY:Rosary
DESCRIPTION:
URL:https://www.hffdl.org/event/rosary/2025-06-26/
LOCATION:Holy Family St. Mary Church\, 59 E. Merrill Ave\, Fond du Lac\, WI\, 54935\, United States
END:VEVENT
END:VCALENDAR