BEGIN:VCALENDAR
VERSION:2.0
PRODID:-//Holy Family Catholic Church - ECPv6.15.12.2//NONSGML v1.0//EN
CALSCALE:GREGORIAN
METHOD:PUBLISH
X-WR-CALNAME:Holy Family Catholic Church
X-ORIGINAL-URL:https://www.hffdl.org
X-WR-CALDESC:Events for Holy Family Catholic Church
REFRESH-INTERVAL;VALUE=DURATION:PT1H
X-Robots-Tag:noindex
X-PUBLISHED-TTL:PT1H
BEGIN:VTIMEZONE
TZID:America/Chicago
BEGIN:DAYLIGHT
TZOFFSETFROM:-0600
TZOFFSETTO:-0500
TZNAME:CDT
DTSTART:20240310T080000
END:DAYLIGHT
BEGIN:STANDARD
TZOFFSETFROM:-0500
TZOFFSETTO:-0600
TZNAME:CST
DTSTART:20241103T070000
END:STANDARD
BEGIN:DAYLIGHT
TZOFFSETFROM:-0600
TZOFFSETTO:-0500
TZNAME:CDT
DTSTART:20250309T080000
END:DAYLIGHT
BEGIN:STANDARD
TZOFFSETFROM:-0500
TZOFFSETTO:-0600
TZNAME:CST
DTSTART:20251102T070000
END:STANDARD
BEGIN:DAYLIGHT
TZOFFSETFROM:-0600
TZOFFSETTO:-0500
TZNAME:CDT
DTSTART:20260308T080000
END:DAYLIGHT
BEGIN:STANDARD
TZOFFSETFROM:-0500
TZOFFSETTO:-0600
TZNAME:CST
DTSTART:20261101T070000
END:STANDARD
END:VTIMEZONE
BEGIN:VEVENT
DTSTART;TZID=America/Chicago:20250826T080000
DTEND;TZID=America/Chicago:20250826T220000
DTSTAMP:20260423T151315
CREATED:20220125T204435Z
LAST-MODIFIED:20251023T163538Z
UID:11212-1756195200-1756245600@www.hffdl.org
SUMMARY:Holy Family Quilters Group
DESCRIPTION:The Holy Family Quilters meet every Tuesday morning from 8:00 to 10:00 am in the St. Mary’s Church basement. All the quilts that we make go to the less fortunate people in the area. We also make lap quilts for the area nursing homes. We can use small pieces or yardage of new material to make the tops and clean blankets and mattress pads\, also any sewing items.  These items can be dropped off at the church office\, or call Karen at (262) 629-4193 for pickup.
URL:https://www.hffdl.org/event/quilters-group/2025-08-26/
LOCATION:Holy Family St. Mary Church\, 59 E. Merrill Ave\, Fond du Lac\, WI\, 54935\, United States
END:VEVENT
BEGIN:VEVENT
DTSTART;TZID=America/Chicago:20250825T160000
DTEND;TZID=America/Chicago:20250825T170000
DTSTAMP:20260423T151315
CREATED:20220125T205828Z
LAST-MODIFIED:20220125T205828Z
UID:16847-1756137600-1756141200@www.hffdl.org
SUMMARY:Rosary
DESCRIPTION:
URL:https://www.hffdl.org/event/rosary/2025-08-25/
LOCATION:Holy Family St. Mary Church\, 59 E. Merrill Ave\, Fond du Lac\, WI\, 54935\, United States
END:VEVENT
BEGIN:VEVENT
DTSTART;TZID=America/Chicago:20250824T160000
DTEND;TZID=America/Chicago:20250824T170000
DTSTAMP:20260423T151315
CREATED:20220125T205828Z
LAST-MODIFIED:20220125T205828Z
UID:16846-1756051200-1756054800@www.hffdl.org
SUMMARY:Rosary
DESCRIPTION:
URL:https://www.hffdl.org/event/rosary/2025-08-24/
LOCATION:Holy Family St. Mary Church\, 59 E. Merrill Ave\, Fond du Lac\, WI\, 54935\, United States
END:VEVENT
BEGIN:VEVENT
DTSTART;TZID=America/Chicago:20250823T160000
DTEND;TZID=America/Chicago:20250823T170000
DTSTAMP:20260423T151315
CREATED:20220125T205828Z
LAST-MODIFIED:20220125T205828Z
UID:16845-1755964800-1755968400@www.hffdl.org
SUMMARY:Rosary
DESCRIPTION:
URL:https://www.hffdl.org/event/rosary/2025-08-23/
LOCATION:Holy Family St. Mary Church\, 59 E. Merrill Ave\, Fond du Lac\, WI\, 54935\, United States
END:VEVENT
BEGIN:VEVENT
DTSTART;TZID=America/Chicago:20250822T160000
DTEND;TZID=America/Chicago:20250822T170000
DTSTAMP:20260423T151315
CREATED:20220125T205828Z
LAST-MODIFIED:20220125T205828Z
UID:16844-1755878400-1755882000@www.hffdl.org
SUMMARY:Rosary
DESCRIPTION:
URL:https://www.hffdl.org/event/rosary/2025-08-22/
LOCATION:Holy Family St. Mary Church\, 59 E. Merrill Ave\, Fond du Lac\, WI\, 54935\, United States
END:VEVENT
BEGIN:VEVENT
DTSTART;TZID=America/Chicago:20250821T160000
DTEND;TZID=America/Chicago:20250821T170000
DTSTAMP:20260423T151315
CREATED:20220125T205828Z
LAST-MODIFIED:20220125T205828Z
UID:16843-1755792000-1755795600@www.hffdl.org
SUMMARY:Rosary
DESCRIPTION:
URL:https://www.hffdl.org/event/rosary/2025-08-21/
LOCATION:Holy Family St. Mary Church\, 59 E. Merrill Ave\, Fond du Lac\, WI\, 54935\, United States
END:VEVENT
BEGIN:VEVENT
DTSTART;TZID=America/Chicago:20250820T160000
DTEND;TZID=America/Chicago:20250820T170000
DTSTAMP:20260423T151315
CREATED:20220125T205828Z
LAST-MODIFIED:20220125T205828Z
UID:16842-1755705600-1755709200@www.hffdl.org
SUMMARY:Rosary
DESCRIPTION:
URL:https://www.hffdl.org/event/rosary/2025-08-20/
LOCATION:Holy Family St. Mary Church\, 59 E. Merrill Ave\, Fond du Lac\, WI\, 54935\, United States
END:VEVENT
BEGIN:VEVENT
DTSTART;TZID=America/Chicago:20250819T160000
DTEND;TZID=America/Chicago:20250819T170000
DTSTAMP:20260423T151315
CREATED:20220125T205828Z
LAST-MODIFIED:20220125T205828Z
UID:16841-1755619200-1755622800@www.hffdl.org
SUMMARY:Rosary
DESCRIPTION:
URL:https://www.hffdl.org/event/rosary/2025-08-19/
LOCATION:Holy Family St. Mary Church\, 59 E. Merrill Ave\, Fond du Lac\, WI\, 54935\, United States
END:VEVENT
BEGIN:VEVENT
DTSTART;TZID=America/Chicago:20250819T160000
DTEND;TZID=America/Chicago:20250819T170000
DTSTAMP:20260423T151315
CREATED:20210621T195746Z
LAST-MODIFIED:20260119T155525Z
UID:11170-1755619200-1755622800@www.hffdl.org
SUMMARY:Blessed Bites
DESCRIPTION:Every Tuesday at the Holy Family Warming Shelter\, 73 E. First St.\, those in need can get a free to-go meal\, canned goods\, and hygiene/cleaning items through the Blessed Bites program. Items are available from 4:00 to 4:30 pm – or until meals are gone. All who are in need are welcome. \nEn Refugio de la Sagrada Familia\, 73 E. First St.\, artículos que puedes llevar gratuitos son: productos enlatados y los artículos de cuidado personal / limpieza\, están disponibles a través de Blessed Bites los martes de 4:00 a 4:30 pm\, hasta agotar existencia. \n 
URL:https://www.hffdl.org/event/blessed-bites-2025-05-20/2025-08-19/
LOCATION:Holy Family St. Mary Church\, 59 E. Merrill Ave\, Fond du Lac\, WI\, 54935\, United States
ATTACH;FMTTYPE=image/png:https://www.hffdl.org/wp-content/uploads/2021/06/15.png
END:VEVENT
BEGIN:VEVENT
DTSTART;TZID=America/Chicago:20250819T080000
DTEND;TZID=America/Chicago:20250819T220000
DTSTAMP:20260423T151315
CREATED:20220125T204435Z
LAST-MODIFIED:20251023T163535Z
UID:11172-1755590400-1755640800@www.hffdl.org
SUMMARY:Holy Family Quilters Group
DESCRIPTION:The Holy Family Quilters meet every Tuesday morning from 8:00 to 10:00 am in the St. Mary’s Church basement. All the quilts that we make go to the less fortunate people in the area. We also make lap quilts for the area nursing homes. We can use small pieces or yardage of new material to make the tops and clean blankets and mattress pads\, also any sewing items.  These items can be dropped off at the church office\, or call Karen at (262) 629-4193 for pickup.
URL:https://www.hffdl.org/event/quilters-group/2025-08-19/
LOCATION:Holy Family St. Mary Church\, 59 E. Merrill Ave\, Fond du Lac\, WI\, 54935\, United States
END:VEVENT
BEGIN:VEVENT
DTSTART;TZID=America/Chicago:20250818T160000
DTEND;TZID=America/Chicago:20250818T170000
DTSTAMP:20260423T151316
CREATED:20220125T205828Z
LAST-MODIFIED:20220125T205828Z
UID:16840-1755532800-1755536400@www.hffdl.org
SUMMARY:Rosary
DESCRIPTION:
URL:https://www.hffdl.org/event/rosary/2025-08-18/
LOCATION:Holy Family St. Mary Church\, 59 E. Merrill Ave\, Fond du Lac\, WI\, 54935\, United States
END:VEVENT
BEGIN:VEVENT
DTSTART;TZID=America/Chicago:20250817T160000
DTEND;TZID=America/Chicago:20250817T170000
DTSTAMP:20260423T151316
CREATED:20220125T205828Z
LAST-MODIFIED:20220125T205828Z
UID:16839-1755446400-1755450000@www.hffdl.org
SUMMARY:Rosary
DESCRIPTION:
URL:https://www.hffdl.org/event/rosary/2025-08-17/
LOCATION:Holy Family St. Mary Church\, 59 E. Merrill Ave\, Fond du Lac\, WI\, 54935\, United States
END:VEVENT
BEGIN:VEVENT
DTSTART;TZID=America/Chicago:20250816T160000
DTEND;TZID=America/Chicago:20250816T170000
DTSTAMP:20260423T151316
CREATED:20220125T205828Z
LAST-MODIFIED:20220125T205828Z
UID:16838-1755360000-1755363600@www.hffdl.org
SUMMARY:Rosary
DESCRIPTION:
URL:https://www.hffdl.org/event/rosary/2025-08-16/
LOCATION:Holy Family St. Mary Church\, 59 E. Merrill Ave\, Fond du Lac\, WI\, 54935\, United States
END:VEVENT
BEGIN:VEVENT
DTSTART;TZID=America/Chicago:20250815T160000
DTEND;TZID=America/Chicago:20250815T170000
DTSTAMP:20260423T151316
CREATED:20220125T205828Z
LAST-MODIFIED:20220125T205828Z
UID:16837-1755273600-1755277200@www.hffdl.org
SUMMARY:Rosary
DESCRIPTION:
URL:https://www.hffdl.org/event/rosary/2025-08-15/
LOCATION:Holy Family St. Mary Church\, 59 E. Merrill Ave\, Fond du Lac\, WI\, 54935\, United States
END:VEVENT
BEGIN:VEVENT
DTSTART;TZID=America/Chicago:20250814T160000
DTEND;TZID=America/Chicago:20250814T170000
DTSTAMP:20260423T151316
CREATED:20220125T205828Z
LAST-MODIFIED:20220125T205828Z
UID:16836-1755187200-1755190800@www.hffdl.org
SUMMARY:Rosary
DESCRIPTION:
URL:https://www.hffdl.org/event/rosary/2025-08-14/
LOCATION:Holy Family St. Mary Church\, 59 E. Merrill Ave\, Fond du Lac\, WI\, 54935\, United States
END:VEVENT
BEGIN:VEVENT
DTSTART;TZID=America/Chicago:20250813T160000
DTEND;TZID=America/Chicago:20250813T170000
DTSTAMP:20260423T151316
CREATED:20220125T205828Z
LAST-MODIFIED:20220125T205828Z
UID:16835-1755100800-1755104400@www.hffdl.org
SUMMARY:Rosary
DESCRIPTION:
URL:https://www.hffdl.org/event/rosary/2025-08-13/
LOCATION:Holy Family St. Mary Church\, 59 E. Merrill Ave\, Fond du Lac\, WI\, 54935\, United States
END:VEVENT
BEGIN:VEVENT
DTSTART;TZID=America/Chicago:20250812T160000
DTEND;TZID=America/Chicago:20250812T170000
DTSTAMP:20260423T151316
CREATED:20220125T205828Z
LAST-MODIFIED:20220125T205828Z
UID:16834-1755014400-1755018000@www.hffdl.org
SUMMARY:Rosary
DESCRIPTION:
URL:https://www.hffdl.org/event/rosary/2025-08-12/
LOCATION:Holy Family St. Mary Church\, 59 E. Merrill Ave\, Fond du Lac\, WI\, 54935\, United States
END:VEVENT
BEGIN:VEVENT
DTSTART;TZID=America/Chicago:20250812T160000
DTEND;TZID=America/Chicago:20250812T170000
DTSTAMP:20260423T151316
CREATED:20210621T195746Z
LAST-MODIFIED:20260119T155523Z
UID:11121-1755014400-1755018000@www.hffdl.org
SUMMARY:Blessed Bites
DESCRIPTION:Every Tuesday at the Holy Family Warming Shelter\, 73 E. First St.\, those in need can get a free to-go meal\, canned goods\, and hygiene/cleaning items through the Blessed Bites program. Items are available from 4:00 to 4:30 pm – or until meals are gone. All who are in need are welcome. \nEn Refugio de la Sagrada Familia\, 73 E. First St.\, artículos que puedes llevar gratuitos son: productos enlatados y los artículos de cuidado personal / limpieza\, están disponibles a través de Blessed Bites los martes de 4:00 a 4:30 pm\, hasta agotar existencia. \n 
URL:https://www.hffdl.org/event/blessed-bites-2025-05-20/2025-08-12/
LOCATION:Holy Family St. Mary Church\, 59 E. Merrill Ave\, Fond du Lac\, WI\, 54935\, United States
ATTACH;FMTTYPE=image/png:https://www.hffdl.org/wp-content/uploads/2021/06/15.png
END:VEVENT
BEGIN:VEVENT
DTSTART;TZID=America/Chicago:20250812T080000
DTEND;TZID=America/Chicago:20250812T220000
DTSTAMP:20260423T151316
CREATED:20220125T204435Z
LAST-MODIFIED:20251023T163533Z
UID:11123-1754985600-1755036000@www.hffdl.org
SUMMARY:Holy Family Quilters Group
DESCRIPTION:The Holy Family Quilters meet every Tuesday morning from 8:00 to 10:00 am in the St. Mary’s Church basement. All the quilts that we make go to the less fortunate people in the area. We also make lap quilts for the area nursing homes. We can use small pieces or yardage of new material to make the tops and clean blankets and mattress pads\, also any sewing items.  These items can be dropped off at the church office\, or call Karen at (262) 629-4193 for pickup.
URL:https://www.hffdl.org/event/quilters-group/2025-08-12/
LOCATION:Holy Family St. Mary Church\, 59 E. Merrill Ave\, Fond du Lac\, WI\, 54935\, United States
END:VEVENT
BEGIN:VEVENT
DTSTART;TZID=America/Chicago:20250811T160000
DTEND;TZID=America/Chicago:20250811T170000
DTSTAMP:20260423T151316
CREATED:20220125T205828Z
LAST-MODIFIED:20220125T205828Z
UID:16833-1754928000-1754931600@www.hffdl.org
SUMMARY:Rosary
DESCRIPTION:
URL:https://www.hffdl.org/event/rosary/2025-08-11/
LOCATION:Holy Family St. Mary Church\, 59 E. Merrill Ave\, Fond du Lac\, WI\, 54935\, United States
END:VEVENT
BEGIN:VEVENT
DTSTART;TZID=America/Chicago:20250810T160000
DTEND;TZID=America/Chicago:20250810T170000
DTSTAMP:20260423T151316
CREATED:20220125T205828Z
LAST-MODIFIED:20220125T205828Z
UID:16832-1754841600-1754845200@www.hffdl.org
SUMMARY:Rosary
DESCRIPTION:
URL:https://www.hffdl.org/event/rosary/2025-08-10/
LOCATION:Holy Family St. Mary Church\, 59 E. Merrill Ave\, Fond du Lac\, WI\, 54935\, United States
END:VEVENT
BEGIN:VEVENT
DTSTART;TZID=America/Chicago:20250809T160000
DTEND;TZID=America/Chicago:20250809T170000
DTSTAMP:20260423T151316
CREATED:20220125T205828Z
LAST-MODIFIED:20220125T205828Z
UID:16831-1754755200-1754758800@www.hffdl.org
SUMMARY:Rosary
DESCRIPTION:
URL:https://www.hffdl.org/event/rosary/2025-08-09/
LOCATION:Holy Family St. Mary Church\, 59 E. Merrill Ave\, Fond du Lac\, WI\, 54935\, United States
END:VEVENT
BEGIN:VEVENT
DTSTART;TZID=America/Chicago:20250808T160000
DTEND;TZID=America/Chicago:20250808T170000
DTSTAMP:20260423T151316
CREATED:20220125T205828Z
LAST-MODIFIED:20220125T205828Z
UID:16830-1754668800-1754672400@www.hffdl.org
SUMMARY:Rosary
DESCRIPTION:
URL:https://www.hffdl.org/event/rosary/2025-08-08/
LOCATION:Holy Family St. Mary Church\, 59 E. Merrill Ave\, Fond du Lac\, WI\, 54935\, United States
END:VEVENT
BEGIN:VEVENT
DTSTART;TZID=America/Chicago:20250807T160000
DTEND;TZID=America/Chicago:20250807T170000
DTSTAMP:20260423T151316
CREATED:20220125T205828Z
LAST-MODIFIED:20220125T205828Z
UID:16829-1754582400-1754586000@www.hffdl.org
SUMMARY:Rosary
DESCRIPTION:
URL:https://www.hffdl.org/event/rosary/2025-08-07/
LOCATION:Holy Family St. Mary Church\, 59 E. Merrill Ave\, Fond du Lac\, WI\, 54935\, United States
END:VEVENT
BEGIN:VEVENT
DTSTART;TZID=America/Chicago:20250806T160000
DTEND;TZID=America/Chicago:20250806T170000
DTSTAMP:20260423T151316
CREATED:20220125T205828Z
LAST-MODIFIED:20220125T205828Z
UID:16828-1754496000-1754499600@www.hffdl.org
SUMMARY:Rosary
DESCRIPTION:
URL:https://www.hffdl.org/event/rosary/2025-08-06/
LOCATION:Holy Family St. Mary Church\, 59 E. Merrill Ave\, Fond du Lac\, WI\, 54935\, United States
END:VEVENT
BEGIN:VEVENT
DTSTART;TZID=America/Chicago:20250805T160000
DTEND;TZID=America/Chicago:20250805T170000
DTSTAMP:20260423T151316
CREATED:20220125T205828Z
LAST-MODIFIED:20220125T205828Z
UID:16827-1754409600-1754413200@www.hffdl.org
SUMMARY:Rosary
DESCRIPTION:
URL:https://www.hffdl.org/event/rosary/2025-08-05/
LOCATION:Holy Family St. Mary Church\, 59 E. Merrill Ave\, Fond du Lac\, WI\, 54935\, United States
END:VEVENT
BEGIN:VEVENT
DTSTART;TZID=America/Chicago:20250805T160000
DTEND;TZID=America/Chicago:20250805T170000
DTSTAMP:20260423T151316
CREATED:20210621T195746Z
LAST-MODIFIED:20260119T155521Z
UID:11109-1754409600-1754413200@www.hffdl.org
SUMMARY:Blessed Bites
DESCRIPTION:Every Tuesday at the Holy Family Warming Shelter\, 73 E. First St.\, those in need can get a free to-go meal\, canned goods\, and hygiene/cleaning items through the Blessed Bites program. Items are available from 4:00 to 4:30 pm – or until meals are gone. All who are in need are welcome. \nEn Refugio de la Sagrada Familia\, 73 E. First St.\, artículos que puedes llevar gratuitos son: productos enlatados y los artículos de cuidado personal / limpieza\, están disponibles a través de Blessed Bites los martes de 4:00 a 4:30 pm\, hasta agotar existencia. \n 
URL:https://www.hffdl.org/event/blessed-bites-2025-05-20/2025-08-05/
LOCATION:Holy Family St. Mary Church\, 59 E. Merrill Ave\, Fond du Lac\, WI\, 54935\, United States
ATTACH;FMTTYPE=image/png:https://www.hffdl.org/wp-content/uploads/2021/06/15.png
END:VEVENT
BEGIN:VEVENT
DTSTART;TZID=America/Chicago:20250805T080000
DTEND;TZID=America/Chicago:20250805T220000
DTSTAMP:20260423T151316
CREATED:20220125T204435Z
LAST-MODIFIED:20251023T163531Z
UID:11111-1754380800-1754431200@www.hffdl.org
SUMMARY:Holy Family Quilters Group
DESCRIPTION:The Holy Family Quilters meet every Tuesday morning from 8:00 to 10:00 am in the St. Mary’s Church basement. All the quilts that we make go to the less fortunate people in the area. We also make lap quilts for the area nursing homes. We can use small pieces or yardage of new material to make the tops and clean blankets and mattress pads\, also any sewing items.  These items can be dropped off at the church office\, or call Karen at (262) 629-4193 for pickup.
URL:https://www.hffdl.org/event/quilters-group/2025-08-05/
LOCATION:Holy Family St. Mary Church\, 59 E. Merrill Ave\, Fond du Lac\, WI\, 54935\, United States
END:VEVENT
BEGIN:VEVENT
DTSTART;TZID=America/Chicago:20250804T160000
DTEND;TZID=America/Chicago:20250804T170000
DTSTAMP:20260423T151316
CREATED:20220125T205828Z
LAST-MODIFIED:20220125T205828Z
UID:16826-1754323200-1754326800@www.hffdl.org
SUMMARY:Rosary
DESCRIPTION:
URL:https://www.hffdl.org/event/rosary/2025-08-04/
LOCATION:Holy Family St. Mary Church\, 59 E. Merrill Ave\, Fond du Lac\, WI\, 54935\, United States
END:VEVENT
BEGIN:VEVENT
DTSTART;TZID=America/Chicago:20250803T160000
DTEND;TZID=America/Chicago:20250803T170000
DTSTAMP:20260423T151316
CREATED:20220125T205828Z
LAST-MODIFIED:20220125T205828Z
UID:16825-1754236800-1754240400@www.hffdl.org
SUMMARY:Rosary
DESCRIPTION:
URL:https://www.hffdl.org/event/rosary/2025-08-03/
LOCATION:Holy Family St. Mary Church\, 59 E. Merrill Ave\, Fond du Lac\, WI\, 54935\, United States
END:VEVENT
END:VCALENDAR