BEGIN:VCALENDAR
VERSION:2.0
PRODID:-//Holy Family Catholic Church - ECPv6.15.12.2//NONSGML v1.0//EN
CALSCALE:GREGORIAN
METHOD:PUBLISH
X-ORIGINAL-URL:https://www.hffdl.org
X-WR-CALDESC:Events for Holy Family Catholic Church
REFRESH-INTERVAL;VALUE=DURATION:PT1H
X-Robots-Tag:noindex
X-PUBLISHED-TTL:PT1H
BEGIN:VTIMEZONE
TZID:America/Chicago
BEGIN:DAYLIGHT
TZOFFSETFROM:-0600
TZOFFSETTO:-0500
TZNAME:CDT
DTSTART:20240310T080000
END:DAYLIGHT
BEGIN:STANDARD
TZOFFSETFROM:-0500
TZOFFSETTO:-0600
TZNAME:CST
DTSTART:20241103T070000
END:STANDARD
BEGIN:DAYLIGHT
TZOFFSETFROM:-0600
TZOFFSETTO:-0500
TZNAME:CDT
DTSTART:20250309T080000
END:DAYLIGHT
BEGIN:STANDARD
TZOFFSETFROM:-0500
TZOFFSETTO:-0600
TZNAME:CST
DTSTART:20251102T070000
END:STANDARD
BEGIN:DAYLIGHT
TZOFFSETFROM:-0600
TZOFFSETTO:-0500
TZNAME:CDT
DTSTART:20260308T080000
END:DAYLIGHT
BEGIN:STANDARD
TZOFFSETFROM:-0500
TZOFFSETTO:-0600
TZNAME:CST
DTSTART:20261101T070000
END:STANDARD
END:VTIMEZONE
BEGIN:VEVENT
DTSTART;TZID=America/Chicago:20250924T183000
DTEND;TZID=America/Chicago:20250924T200000
DTSTAMP:20260423T053343
CREATED:20250904T185635Z
LAST-MODIFIED:20250904T185635Z
UID:15985-1758738600-1758744000@www.hffdl.org
SUMMARY:Holy Family High School Youth Group
DESCRIPTION:This September\, our Holy Family High School Youth Group will talk faith and have fun. On Wednesday\, September 10\, learn about the Ten Commandments and “What they really mean for us.” On Wednesday\, September 24\, in honor of the Jubilee year\, we will talk about “Pilgrims of Hope: What Does it Mean for You\,” and enjoy snacks and games. High School Youth Group meets the second and fourth Wednesday of each month at Sacred Heart School from 6:30 to 8:00 pm. For more information\, please contact High School Formation Coordinator Angie Bestul at angieb@hffdl.org.
URL:https://www.hffdl.org/event/holy-family-high-school-youth-group-9/2025-09-24/
LOCATION:Sacred Heart School\, 678 Western Ave.\, Fond du Lac\, 54935\, United States
ATTACH;FMTTYPE=image/png:https://www.hffdl.org/wp-content/uploads/2025/09/Youth-Group-2024-1920-x-1080-px.png
END:VEVENT
BEGIN:VEVENT
DTSTART;TZID=America/Chicago:20250910T183000
DTEND;TZID=America/Chicago:20250910T200000
DTSTAMP:20260423T053344
CREATED:20250904T185624Z
LAST-MODIFIED:20250904T185633Z
UID:15984-1757529000-1757534400@www.hffdl.org
SUMMARY:Holy Family High School Youth Group
DESCRIPTION:This September\, our Holy Family High School Youth Group will talk faith and have fun. On Wednesday\, September 10\, learn about the Ten Commandments and “What they really mean for us.” On Wednesday\, September 24\, in honor of the Jubilee year\, we will talk about “Pilgrims of Hope: What Does it Mean for You\,” and enjoy snacks and games. High School Youth Group meets the second and fourth Wednesday of each month at Sacred Heart School from 6:30 to 8:00 pm. For more information\, please contact High School Formation Coordinator Angie Bestul at angieb@hffdl.org.
URL:https://www.hffdl.org/event/holy-family-high-school-youth-group-9/2025-09-10/
LOCATION:Sacred Heart School\, 678 Western Ave.\, Fond du Lac\, 54935\, United States
ATTACH;FMTTYPE=image/png:https://www.hffdl.org/wp-content/uploads/2025/09/Youth-Group-2024-1920-x-1080-px.png
END:VEVENT
END:VCALENDAR