BEGIN:VCALENDAR
VERSION:2.0
PRODID:-//Holy Family Catholic Church - ECPv6.15.12.2//NONSGML v1.0//EN
CALSCALE:GREGORIAN
METHOD:PUBLISH
X-ORIGINAL-URL:https://www.hffdl.org
X-WR-CALDESC:Events for Holy Family Catholic Church
REFRESH-INTERVAL;VALUE=DURATION:PT1H
X-Robots-Tag:noindex
X-PUBLISHED-TTL:PT1H
BEGIN:VTIMEZONE
TZID:America/Chicago
BEGIN:DAYLIGHT
TZOFFSETFROM:-0600
TZOFFSETTO:-0500
TZNAME:CDT
DTSTART:20240310T080000
END:DAYLIGHT
BEGIN:STANDARD
TZOFFSETFROM:-0500
TZOFFSETTO:-0600
TZNAME:CST
DTSTART:20241103T070000
END:STANDARD
BEGIN:DAYLIGHT
TZOFFSETFROM:-0600
TZOFFSETTO:-0500
TZNAME:CDT
DTSTART:20250309T080000
END:DAYLIGHT
BEGIN:STANDARD
TZOFFSETFROM:-0500
TZOFFSETTO:-0600
TZNAME:CST
DTSTART:20251102T070000
END:STANDARD
BEGIN:DAYLIGHT
TZOFFSETFROM:-0600
TZOFFSETTO:-0500
TZNAME:CDT
DTSTART:20260308T080000
END:DAYLIGHT
BEGIN:STANDARD
TZOFFSETFROM:-0500
TZOFFSETTO:-0600
TZNAME:CST
DTSTART:20261101T070000
END:STANDARD
END:VTIMEZONE
BEGIN:VEVENT
DTSTART;TZID=America/Chicago:20250827T183000
DTEND;TZID=America/Chicago:20250827T203000
DTSTAMP:20260421T110430
CREATED:20250730T201356Z
LAST-MODIFIED:20250730T201356Z
UID:15775-1756319400-1756326600@www.hffdl.org
SUMMARY:Holy Family High School Youth Group
DESCRIPTION:The Holy Family High School Youth Group will host Outdoor Game Night on Wednesdays\, August 13 & 27 from 6:30 to 8:30 pm at the Sacred Heart Victory Center. On August 27\, parents and siblings are invited to attend! In case of rain\, the game night will take place in Sacred Heart School Gym. 
URL:https://www.hffdl.org/event/holy-family-high-school-youth-group-8/2025-08-27/
LOCATION:Sacred Heart Victory Center\, 231 Evans Drive\, Fond du Lac\, 549353\, United States
ATTACH;FMTTYPE=image/png:https://www.hffdl.org/wp-content/uploads/2025/07/August-Youth-Group-2025.png
END:VEVENT
BEGIN:VEVENT
DTSTART;TZID=America/Chicago:20250813T183000
DTEND;TZID=America/Chicago:20250813T203000
DTSTAMP:20260421T110430
CREATED:20250730T201348Z
LAST-MODIFIED:20250730T201355Z
UID:15774-1755109800-1755117000@www.hffdl.org
SUMMARY:Holy Family High School Youth Group
DESCRIPTION:The Holy Family High School Youth Group will host Outdoor Game Night on Wednesdays\, August 13 & 27 from 6:30 to 8:30 pm at the Sacred Heart Victory Center. On August 27\, parents and siblings are invited to attend! In case of rain\, the game night will take place in Sacred Heart School Gym. 
URL:https://www.hffdl.org/event/holy-family-high-school-youth-group-8/2025-08-13/
LOCATION:Sacred Heart Victory Center\, 231 Evans Drive\, Fond du Lac\, 549353\, United States
ATTACH;FMTTYPE=image/png:https://www.hffdl.org/wp-content/uploads/2025/07/August-Youth-Group-2025.png
END:VEVENT
END:VCALENDAR