BEGIN:VCALENDAR
VERSION:2.0
PRODID:-//Holy Family Catholic Church - ECPv6.15.12.2//NONSGML v1.0//EN
CALSCALE:GREGORIAN
METHOD:PUBLISH
X-WR-CALNAME:Holy Family Catholic Church
X-ORIGINAL-URL:https://www.hffdl.org
X-WR-CALDESC:Events for Holy Family Catholic Church
REFRESH-INTERVAL;VALUE=DURATION:PT1H
X-Robots-Tag:noindex
X-PUBLISHED-TTL:PT1H
BEGIN:VTIMEZONE
TZID:America/Chicago
BEGIN:DAYLIGHT
TZOFFSETFROM:-0600
TZOFFSETTO:-0500
TZNAME:CDT
DTSTART:20240310T080000
END:DAYLIGHT
BEGIN:STANDARD
TZOFFSETFROM:-0500
TZOFFSETTO:-0600
TZNAME:CST
DTSTART:20241103T070000
END:STANDARD
BEGIN:DAYLIGHT
TZOFFSETFROM:-0600
TZOFFSETTO:-0500
TZNAME:CDT
DTSTART:20250309T080000
END:DAYLIGHT
BEGIN:STANDARD
TZOFFSETFROM:-0500
TZOFFSETTO:-0600
TZNAME:CST
DTSTART:20251102T070000
END:STANDARD
BEGIN:DAYLIGHT
TZOFFSETFROM:-0600
TZOFFSETTO:-0500
TZNAME:CDT
DTSTART:20260308T080000
END:DAYLIGHT
BEGIN:STANDARD
TZOFFSETFROM:-0500
TZOFFSETTO:-0600
TZNAME:CST
DTSTART:20261101T070000
END:STANDARD
END:VTIMEZONE
BEGIN:VEVENT
DTSTART;TZID=America/Chicago:20250716T190000
DTEND;TZID=America/Chicago:20250716T203000
DTSTAMP:20260422T125522
CREATED:20250522T171409Z
LAST-MODIFIED:20250522T171950Z
UID:15411-1752692400-1752697800@www.hffdl.org
SUMMARY:Brewing the Faith Young Adult Series
DESCRIPTION:Calling all young adults! This summer\, join Holy Family Catholic Community for our Brewing the Faith Series! Enjoy free appetizers\, grab a beverage\, and connect with others who want to explore their faith in a more meaningful way. Talks this summer include: \n\nIgniting Holiness in your Dating Life featuring Fr. Matt Kirk from 7:00 – 8:30 pm on June 4 at El Patron\n“Theology of Bohemian Rhapsody” featuring Chris McGalloway from 7:00 to 8:30 pm on July 17 at Schmitty’s Bar and Grill\nTransfiguration and the Saints featuring Fr. Kevin Durand from 7:00 – 8:30 pm on August 20 at El Patron
URL:https://www.hffdl.org/event/brewing-the-faith-young-adult-series/2025-07-16/
LOCATION:El Patron Mexican Bar & Grill\, 306 Fourth St Way\, Fond du Lac\, WI\, 54937\, United States
ATTACH;FMTTYPE=image/png:https://www.hffdl.org/wp-content/uploads/2025/05/Brewing-the-Faith-1920-x-1080-px.png
END:VEVENT
BEGIN:VEVENT
DTSTART;TZID=America/Chicago:20250604T190000
DTEND;TZID=America/Chicago:20250604T203000
DTSTAMP:20260422T125522
CREATED:20250522T171409Z
LAST-MODIFIED:20250522T171948Z
UID:15409-1749063600-1749069000@www.hffdl.org
SUMMARY:Brewing the Faith Young Adult Series
DESCRIPTION:Calling all young adults! This summer\, join Holy Family Catholic Community for our Brewing the Faith Series! Enjoy free appetizers\, grab a beverage\, and connect with others who want to explore their faith in a more meaningful way. Talks this summer include: \n\nIgniting Holiness in your Dating Life featuring Fr. Matt Kirk from 7:00 – 8:30 pm on June 4 at El Patron\n“Theology of Bohemian Rhapsody” featuring Chris McGalloway from 7:00 to 8:30 pm on July 17 at Schmitty’s Bar and Grill\nTransfiguration and the Saints featuring Fr. Kevin Durand from 7:00 – 8:30 pm on August 20 at El Patron
URL:https://www.hffdl.org/event/brewing-the-faith-young-adult-series/2025-06-04/
LOCATION:El Patron Mexican Bar & Grill\, 306 Fourth St Way\, Fond du Lac\, WI\, 54937\, United States
ATTACH;FMTTYPE=image/png:https://www.hffdl.org/wp-content/uploads/2025/05/Brewing-the-Faith-1920-x-1080-px.png
END:VEVENT
END:VCALENDAR